BEGIN:VCALENDAR
VERSION:2.0
PRODID:-//Biblioteca Pública e Arquivo Regional Luís da Silva Ribeiro - ECPv4.9.10//NONSGML v1.0//EN
CALSCALE:GREGORIAN
METHOD:PUBLISH
X-WR-CALNAME:Biblioteca Pública e Arquivo Regional Luís da Silva Ribeiro
X-ORIGINAL-URL:https://bparlsr.azores.gov.pt
X-WR-CALDESC:Events for Biblioteca Pública e Arquivo Regional Luís da Silva Ribeiro
BEGIN:VTIMEZONE
TZID:Atlantic/Azores
BEGIN:DAYLIGHT
TZOFFSETFROM:-0100
TZOFFSETTO:+0000
TZNAME:+00
DTSTART:20180325T010000
END:DAYLIGHT
BEGIN:STANDARD
TZOFFSETFROM:+0000
TZOFFSETTO:-0100
TZNAME:-01
DTSTART:20181028T010000
END:STANDARD
END:VTIMEZONE
BEGIN:VEVENT
DTSTART;TZID=Atlantic/Azores:20180921T090000
DTEND;TZID=Atlantic/Azores:20180921T170000
DTSTAMP:20260425T133728
CREATED:20180917T123843Z
LAST-MODIFIED:20180917T123954Z
UID:2757-1537520400-1537549200@bparlsr.azores.gov.pt
SUMMARY:Dia Aberto do Arquivo
DESCRIPTION:Dia Aberto do Arquivo\nDepósitos de arquivo\, acondicionamento e expurgo. \nData: 21 de setembro\nHora: no horário do funcionamento\, das 9:00 às 17:00\nLocal: Biblioteca Pública e Arquivo Regional Luís da Silva Ribeiro\nPúblico-alvo: Público em geral\nMediante inscrição prévia (295 401 000) \nA Biblioteca Pública e Arquivo Regional Luís da Silva Ribeiro promove no próximo dia 21 de setembro mais um dia aberto do arquivo\, cuja temática será: acondicionamento dos documentos e funcionamento dos depósitos e do expurgo\, orientado pelos técnicos João Silva e Rui Lima.\nJoão Félix Silva é Técnico Superior de arquivo na Biblioteca Pública e Arquivo Regional Luís da Silva Ribeiro.\nRui Francisco dos Santos Lima é Assistente Técnico na Biblioteca Pública e Arquivo Regional Luís da Silva Ribeiro. \nFacebookTwitterGoogle+\n\n\n\n\n
URL:https://bparlsr.azores.gov.pt/destaque/2757/
CATEGORIES:Arquivo Regional
ATTACH;FMTTYPE=image/jpeg:https://bparlsr.azores.gov.pt/wp-content/uploads/2018/09/Sítio-web-e-TV-1.jpg
END:VEVENT
END:VCALENDAR