BEGIN:VCALENDAR
VERSION:2.0
PRODID:-//Biblioteca Pública e Arquivo Regional Luís da Silva Ribeiro - ECPv4.9.10//NONSGML v1.0//EN
CALSCALE:GREGORIAN
METHOD:PUBLISH
X-WR-CALNAME:Biblioteca Pública e Arquivo Regional Luís da Silva Ribeiro
X-ORIGINAL-URL:https://bparlsr.azores.gov.pt
X-WR-CALDESC:Events for Biblioteca Pública e Arquivo Regional Luís da Silva Ribeiro
BEGIN:VTIMEZONE
TZID:Atlantic/Azores
BEGIN:DAYLIGHT
TZOFFSETFROM:-0100
TZOFFSETTO:+0000
TZNAME:+00
DTSTART:20190331T010000
END:DAYLIGHT
BEGIN:STANDARD
TZOFFSETFROM:+0000
TZOFFSETTO:-0100
TZNAME:-01
DTSTART:20191027T010000
END:STANDARD
END:VTIMEZONE
BEGIN:VEVENT
DTSTART;TZID=Atlantic/Azores:20190605T210000
DTEND;TZID=Atlantic/Azores:20190605T220000
DTSTAMP:20260419T122417
CREATED:20190530T163844Z
LAST-MODIFIED:20190530T163902Z
UID:3287-1559768400-1559772000@bparlsr.azores.gov.pt
SUMMARY:Azores Fringe
DESCRIPTION:Azores Fringe\nExibição de curtas-metragens\nData: 5 de junho\nHora: 21:00\nLocal: Biblioteca Pública e Arquivo Regional Luís da Silva Ribeiro\nPúblico-alvo: Público em geral\nA Biblioteca Pública e Arquivo Regional Luís da Silva Ribeiro\, em parceria com a MiratecsArts\, organiza a exibição de algumas curtas-metragens nesta sétima edição do festival internacional de artes nos Açores\, em que mais de 100 artistas regionais\, nacionais e internacionais mostram o seu trabalho\, lideram workshops e se apresentam no meio do Oceano Atlântico.\nAs curtas-metragens que vão ser exibidas são as seguintes:\nTribal Baroque – Gypsy Dance | Nuno Sá Pessoa\, Kris Skovmand | 03:25 | Portugal | 2012\nLeo | Herman Delgado | 04:22 | Portugal | 2017\nObservador | José Paulo Santos | 01:00 | Portugal | 2017\nPrimavera | Alexandra Barbosa | 04:57 | Portugal | 2018\nBarba Curta | Gonçalo das Neves | 04:50 | Portugal | 2018\nO Discurso | Hernâni Duarte Maria | 05:00 | Portugal | 2017\nEstrada | Luís Azevedo | 02:51 | Portugal | 2017\nMEU | Diogo Caramujo | 03:48 | Portugal | 2018\nTanque | Fábio Poço\, Sérgio Salgueiro | 09:09 | Portugal | 2018\nConsequência | Virgínia Barbosa | 13:53 | Portugal | 2018\nLODO – Prisão | Pedro Caldeira\, Paulo Graça | 09:25 | Portugal | 2017\nMantodea | Henrique de Matos | 04:47 | Portugal | 2018\nFacebookTwitterGoogle+\n\n\n\n\n
URL:https://bparlsr.azores.gov.pt/destaque/3287/
CATEGORIES:Biblioteca
ATTACH;FMTTYPE=image/jpeg:https://bparlsr.azores.gov.pt/wp-content/uploads/2019/05/Sítio-web-e-TV-8.jpg
END:VEVENT
END:VCALENDAR