BEGIN:VCALENDAR
VERSION:2.0
PRODID:-//Biblioteca Pública e Arquivo Regional Luís da Silva Ribeiro - ECPv4.9.10//NONSGML v1.0//EN
CALSCALE:GREGORIAN
METHOD:PUBLISH
X-WR-CALNAME:Biblioteca Pública e Arquivo Regional Luís da Silva Ribeiro
X-ORIGINAL-URL:https://bparlsr.azores.gov.pt
X-WR-CALDESC:Events for Biblioteca Pública e Arquivo Regional Luís da Silva Ribeiro
BEGIN:VTIMEZONE
TZID:Atlantic/Azores
BEGIN:DAYLIGHT
TZOFFSETFROM:-0100
TZOFFSETTO:+0000
TZNAME:+00
DTSTART:20210328T010000
END:DAYLIGHT
BEGIN:STANDARD
TZOFFSETFROM:+0000
TZOFFSETTO:-0100
TZNAME:-01
DTSTART:20211031T010000
END:STANDARD
END:VTIMEZONE
BEGIN:VEVENT
DTSTART;VALUE=DATE:20210228
DTEND;VALUE=DATE:20210301
DTSTAMP:20260425T142821
CREATED:20210211T105841Z
LAST-MODIFIED:20210211T105847Z
UID:5191-1614470400-1614556799@bparlsr.azores.gov.pt
SUMMARY:A Biblioteca vai à Escola
DESCRIPTION:Datas: Anual \nLocal: Escolas da ilha Terceira \nPúblico-alvo: Comunidade escolar (Crianças do 1.º e 2.º Ciclos) \n  \nA secção Infantojuvenil da Biblioteca Pública e Arquivo Regional Luís da Silva Ribeiro promove sessões de mediação de leitura nos estabelecimentos de ensino da ilha\, com o projeto “A Biblioteca vai à Escola”. \nEsta iniciativa pretende levar às crianças do 1.º e 2.º ciclos as atividades itinerantes “Um Conto\, e um Ponto” e “Vila Poesia”\, que têm vindo a ser desenvolvidas pelos mediadores de leitura desta seção: a Carolina\, a Sílvia\, o Ricardo\, o Henrique\, a Célia e a Mena. \nSe é professor e gostava de receber esta equipa dinâmica e empenhada em elevar a leitura dos mais novos\, contacte o coordenador da biblioteca da sua escola. \nAs malas e carrinhos estão prontos e cheios de livros. Encontramo-nos na sua sala! \nFacebookTwitterGoogle+\n\n\n\n\n
URL:https://bparlsr.azores.gov.pt/destaque/a-biblioteca-vai-a-escola/
CATEGORIES:Biblioteca
ATTACH;FMTTYPE=image/jpeg:https://bparlsr.azores.gov.pt/wp-content/uploads/2021/02/2_sitioweb-2.jpg
END:VEVENT
END:VCALENDAR