BEGIN:VCALENDAR
VERSION:2.0
PRODID:-//Biblioteca Pública e Arquivo Regional Luís da Silva Ribeiro - ECPv4.9.10//NONSGML v1.0//EN
CALSCALE:GREGORIAN
METHOD:PUBLISH
X-WR-CALNAME:Biblioteca Pública e Arquivo Regional Luís da Silva Ribeiro
X-ORIGINAL-URL:https://bparlsr.azores.gov.pt
X-WR-CALDESC:Events for Biblioteca Pública e Arquivo Regional Luís da Silva Ribeiro
BEGIN:VTIMEZONE
TZID:Atlantic/Azores
BEGIN:DAYLIGHT
TZOFFSETFROM:-0100
TZOFFSETTO:+0000
TZNAME:+00
DTSTART:20190331T010000
END:DAYLIGHT
BEGIN:STANDARD
TZOFFSETFROM:+0000
TZOFFSETTO:-0100
TZNAME:-01
DTSTART:20191027T010000
END:STANDARD
END:VTIMEZONE
BEGIN:VEVENT
DTSTART;TZID=Atlantic/Azores:20190927T180000
DTEND;TZID=Atlantic/Azores:20190927T193000
DTSTAMP:20260425T033741
CREATED:20190919T152254Z
LAST-MODIFIED:20190919T152254Z
UID:3450-1569607200-1569612600@bparlsr.azores.gov.pt
SUMMARY:À Conversa com Eduardo Sá
DESCRIPTION:À Conversa com Eduardo Sá “Os pais de hoje são melhores ou piores do que os nossos pais?”\nData: 27 de setembro\nHora: 18:00\nLocal: Biblioteca Pública e Arquivo Regional Luís da Silva Ribeiro\nPúblico-alvo: Público em geral\nA Biblioteca Pública e Arquivo Regional Luís da Silva Ribeiro irá retomar no próximo dia 27 de setembro\, às 18:00\, a atividade “Conversa com…”\, desta feita com a presença do conhecido psicólogo Eduardo Sá\, que numa sessão moderada pelo também psicólogo Francisco Simões abordará o seguinte tema: Os pais de hoje são melhores ou piores do que os nossos pais?.\nNo âmbito das “Conversas com…”\, que a Biblioteca tem vindo a realizar desde o passado ano\, são entrevistadas personalidades de diferentes áreas com o objetivo de dar a conhecer o seu percurso de vida e o trabalho que desenvolvem\, para além de permitirem uma abordagem de temáticas atuais e/ou consideradas de interesse para a comunidade local. \nEduardo Sá é psicólogo clínico\, psicanalista e professor de psicologia clínica na Universidade de Coimbra e no Instituto Superior de Psicologia Aplicada\, em Lisboa. Tem uma longa experiência de acompanhamento de fetos e de bebés\, de crianças\, de adolescentes e das suas famílias. Diretor da Clínica Bebés & Crescidos.\nTem colaborado regularmente na imprensa\, nomeadamente nas revistas “XIS”\, do jornal Público\, Adolescentes\, e atualmente na “Notícias Magazine”\, do Diário de Notícias.\nPublicou Manual de Instruções para uma família feliz\, Más maneiras de sermos bons pais\, Psicologia dos pais e do brincar\, A maternidade e o bebé\, A vida não se aprende nos livros\, Tudo o que o amor não é\, Chega-te a mim e deixa-te estar\, Crianças para sempre e\, em coautoria\, O melhor do mundo.\nFacebookTwitterGoogle+\n\n\n\n\n
URL:https://bparlsr.azores.gov.pt/destaque/a-conversa-com-eduardo-sa/
CATEGORIES:Biblioteca
ATTACH;FMTTYPE=image/jpeg:https://bparlsr.azores.gov.pt/wp-content/uploads/2019/09/Sítio-web-e-TV-3.jpg
END:VEVENT
END:VCALENDAR