BEGIN:VCALENDAR
VERSION:2.0
PRODID:-//Biblioteca Pública e Arquivo Regional Luís da Silva Ribeiro - ECPv4.9.10//NONSGML v1.0//EN
CALSCALE:GREGORIAN
METHOD:PUBLISH
X-WR-CALNAME:Biblioteca Pública e Arquivo Regional Luís da Silva Ribeiro
X-ORIGINAL-URL:https://bparlsr.azores.gov.pt
X-WR-CALDESC:Events for Biblioteca Pública e Arquivo Regional Luís da Silva Ribeiro
BEGIN:VTIMEZONE
TZID:Atlantic/Azores
BEGIN:DAYLIGHT
TZOFFSETFROM:-0100
TZOFFSETTO:+0000
TZNAME:+00
DTSTART:20180325T010000
END:DAYLIGHT
BEGIN:STANDARD
TZOFFSETFROM:+0000
TZOFFSETTO:-0100
TZNAME:-01
DTSTART:20181028T010000
END:STANDARD
END:VTIMEZONE
BEGIN:VEVENT
DTSTART;TZID=Atlantic/Azores:20181004T180000
DTEND;TZID=Atlantic/Azores:20181004T200000
DTSTAMP:20260421T130230
CREATED:20180927T085105Z
LAST-MODIFIED:20180927T094227Z
UID:2794-1538676000-1538683200@bparlsr.azores.gov.pt
SUMMARY:Angrajazz na Rua
DESCRIPTION:No âmbito do programa JAZZ NA RUA\, realiza-se na Biblioteca\, no dia 4 de outubro\, pelas 18H00\, um concerto com o quinteto LC COLLECTIVE\, numa parceria com a Associação Angrajazz e a Direção Regional da Cultura.\nEste grupo é composto por músicos com um vasto percurso na área do Jazz\, nomeadamente como membros ativos da Orquestra de Jazz do Hot Clube de Portugal. O LC Collective reúne-se este ano para este festival\, apresentando um repertório variado\, desde temas originais a arranjos de standards de jazz. \nFacebookTwitterGoogle+\n\n\n\n\n
URL:https://bparlsr.azores.gov.pt/destaque/angrajazz-na-rua/
CATEGORIES:Biblioteca
ATTACH;FMTTYPE=image/jpeg:https://bparlsr.azores.gov.pt/wp-content/uploads/2018/09/Sítio-web-e-TV-4.jpg
END:VEVENT
END:VCALENDAR