BEGIN:VCALENDAR
VERSION:2.0
PRODID:-//Biblioteca Pública e Arquivo Regional Luís da Silva Ribeiro - ECPv4.9.10//NONSGML v1.0//EN
CALSCALE:GREGORIAN
METHOD:PUBLISH
X-WR-CALNAME:Biblioteca Pública e Arquivo Regional Luís da Silva Ribeiro
X-ORIGINAL-URL:https://bparlsr.azores.gov.pt
X-WR-CALDESC:Events for Biblioteca Pública e Arquivo Regional Luís da Silva Ribeiro
BEGIN:VTIMEZONE
TZID:Atlantic/Azores
BEGIN:DAYLIGHT
TZOFFSETFROM:-0100
TZOFFSETTO:+0000
TZNAME:+00
DTSTART:20250330T010000
END:DAYLIGHT
BEGIN:STANDARD
TZOFFSETFROM:+0000
TZOFFSETTO:-0100
TZNAME:-01
DTSTART:20251026T010000
END:STANDARD
END:VTIMEZONE
BEGIN:VEVENT
DTSTART;VALUE=DATE:20251108
DTEND;VALUE=DATE:20251201
DTSTAMP:20260426T005421
CREATED:20251103T153508Z
LAST-MODIFIED:20251103T153508Z
UID:12628-1762560000-1764547199@bparlsr.azores.gov.pt
SUMMARY:BiblioAgenda | novembro
DESCRIPTION:\n  .botoes-container {\n    display: flex;\n    gap: 10px;\n    max-width: 400px;\n  }\n  .botoes-container button {\n    flex: 1;\n    padding: 10px;\n    font-size: 16px;\n    cursor: pointer;\n    border: 1px solid #333;\n    background-color: #f0f0f0;\n  }\n  .botoes-container button:hover {\n    background-color: #ddd;\n  }\n  .mensagem {\n    visibility: hidden;\n    height: 0;\n    overflow: hidden;\n  }\n  .mensagem.mostrar {\n    visibility: visible;\n    height: auto;\n  }\n\n  \n\n  Português\n  English\n\n   \n\nA BiblioAgenda de novembro já está disponível!\nMensalmente\, os diversos setores da Biblioteca preparam uma programação rica e variada\, que inclui mostras e exposições\, conferências\, oficinas\, momentos musicais\, clubes de leitura\, exibição de curtas-metragens\, entre outras iniciativas que prometem enriquecer a experiência de quem visita a Biblioteca Pública e Arquivo Regional Luís da Silva Ribeiro.\nEsta agenda é o seu guia para que não perca nenhuma das atividades que terão lugar na BPARLSR. Consulte a BiblioAgenda\, em português e/ou inglês\, e faça parte da nossa programação. \n\n\nThe November BiblioAgenda is now available!\nEvery month\, the various departments of the Library put together a rich and diverse program that includes exhibitions\, lectures\, workshops\, musical moments\, book clubs\, short film screenings\, and other initiatives that will not fail to enhance the experience of those visiting the Public Library and Regional Archive Luís da Silva Ribeiro.\nThis program is your guide to ensure you don’t miss any of the activities taking place at the Library. Check out the BiblioAgenda\, available in Portuguese and/or English\, and be part of our programming! \n\n\n  function mostrar(id) {\n    document.querySelectorAll('.mensagem').forEach(function(el) {\n      el.classList.remove('mostrar');\n    });\n    document.getElementById(id).classList.add('mostrar');\n  }\n \nFacebookTwitterGoogle+\n\n\n\n\n
URL:https://bparlsr.azores.gov.pt/destaque/biblioagenda-novembro/
CATEGORIES:Biblioteca
ATTACH;FMTTYPE=image/jpeg:https://bparlsr.azores.gov.pt/wp-content/uploads/2025/11/Biblioagenda_nov_website.jpg
END:VEVENT
END:VCALENDAR