BEGIN:VCALENDAR
VERSION:2.0
PRODID:-//Biblioteca Pública e Arquivo Regional Luís da Silva Ribeiro - ECPv4.9.10//NONSGML v1.0//EN
CALSCALE:GREGORIAN
METHOD:PUBLISH
X-WR-CALNAME:Biblioteca Pública e Arquivo Regional Luís da Silva Ribeiro
X-ORIGINAL-URL:https://bparlsr.azores.gov.pt
X-WR-CALDESC:Events for Biblioteca Pública e Arquivo Regional Luís da Silva Ribeiro
BEGIN:VTIMEZONE
TZID:Atlantic/Azores
BEGIN:DAYLIGHT
TZOFFSETFROM:-0100
TZOFFSETTO:+0000
TZNAME:+00
DTSTART:20190331T010000
END:DAYLIGHT
BEGIN:STANDARD
TZOFFSETFROM:+0000
TZOFFSETTO:-0100
TZNAME:-01
DTSTART:20191027T010000
END:STANDARD
END:VTIMEZONE
BEGIN:VEVENT
DTSTART;VALUE=DATE:20191001
DTEND;VALUE=DATE:20191130
DTSTAMP:20260422T191945
CREATED:20191030T132631Z
LAST-MODIFIED:20191030T132631Z
UID:3518-1569888000-1575071999@bparlsr.azores.gov.pt
SUMMARY:Biblioteca Itinerante
DESCRIPTION:– Biblioteca nas Freguesias-\n“Biblioteca Itinerante”\nData: 4 a 29 de novembro\nLocal: Junta de Freguesia da Terra Chã\nHora: Segunda a sexta\, das 09:00 às 12:00 e das 13:00 às 17:00\nData: 1 de outubro a 30 de dezembro\nLocal: Junta de Freguesia de Santa Cruz\nHora: Segunda a sexta\, das 08:30 às 12:30 e das 13:30 às 17:30\nNo mês de novembro o projeto Biblioteca Itinerante vai estar disponível nas freguesias da Terra Chã\, em Angra do Heroísmo\, e de Santa Cruz\, na Praia da Vitória\, nas instalações acima referidas\, e nas datas e com os horários de funcionamento acima mencionados.\nEste projeto que se desenvolve há três anos tem o objetivo principal de levar os livros mais perto dos cidadãos. A Biblioteca sai fora de portas e procura a comunidade\, a pensar sobretudo nas pessoas que não têm possibilidade de se deslocar à instituição\, e promovendo o livro como objeto essencial e a leitura. Para usufruírem da leitura domiciliária que agora se disponibiliza basta os utentes dirigirem-se aos serviços das juntas de freguesia para requisitarem os livros que nelas se encontram\, nos mesmos moldes que o fariam na instituição. Esperamos por si.\nEsta é uma iniciativa desenvolvida em parceria com as Câmaras Municipais de Angra do Heroísmo e da Praia da Vitória.\nFacebookTwitterGoogle+\n\n\n\n\n
URL:https://bparlsr.azores.gov.pt/destaque/biblioteca-itinerante-8/
CATEGORIES:Biblioteca
ATTACH;FMTTYPE=image/jpeg:https://bparlsr.azores.gov.pt/wp-content/uploads/2019/10/Sítio-web-e-TV-12.jpg
END:VEVENT
END:VCALENDAR