BEGIN:VCALENDAR
VERSION:2.0
PRODID:-//Biblioteca Pública e Arquivo Regional Luís da Silva Ribeiro - ECPv4.9.10//NONSGML v1.0//EN
CALSCALE:GREGORIAN
METHOD:PUBLISH
X-WR-CALNAME:Biblioteca Pública e Arquivo Regional Luís da Silva Ribeiro
X-ORIGINAL-URL:https://bparlsr.azores.gov.pt
X-WR-CALDESC:Events for Biblioteca Pública e Arquivo Regional Luís da Silva Ribeiro
BEGIN:VTIMEZONE
TZID:Atlantic/Azores
BEGIN:DAYLIGHT
TZOFFSETFROM:-0100
TZOFFSETTO:+0000
TZNAME:+00
DTSTART:20180325T010000
END:DAYLIGHT
BEGIN:STANDARD
TZOFFSETFROM:+0000
TZOFFSETTO:-0100
TZNAME:-01
DTSTART:20181028T010000
END:STANDARD
END:VTIMEZONE
BEGIN:VEVENT
DTSTART;TZID=Atlantic/Azores:20181130T213000
DTEND;TZID=Atlantic/Azores:20181130T230000
DTSTAMP:20260424T163244
CREATED:20181126T183240Z
LAST-MODIFIED:20181126T183240Z
UID:2933-1543613400-1543618800@bparlsr.azores.gov.pt
SUMMARY:Concerto DR Vi Trio
DESCRIPTION:Concerto DR Vi Trio\ncom José Castelo\nData: 30 de novembro\nHora: 21:30\nLocal: Biblioteca Pública e Arquivo Regional Luís da Silva Ribeiro\nPúblico-alvo: Público em geral\nA Biblioteca Pública e Arquivo Regional Luís da Silva Ribeiro no âmbito do projeto “A Biblioteca para lá dos livros”\, com o objetivo de dar acesso a diferentes formas de expressão cultural\, promove um concerto com o Dr. Vi Trio acompanhado por José Castelo.\nO concerto terá um vasto programa com temas que vão de Astor Piazzolla a Django Reinhard e Stéphane Grappelli.\nFacebookTwitterGoogle+\n\n\n\n\n
URL:https://bparlsr.azores.gov.pt/destaque/concerto-dr-vi-trio/
CATEGORIES:Biblioteca
ATTACH;FMTTYPE=image/jpeg:https://bparlsr.azores.gov.pt/wp-content/uploads/2018/11/Sítio-web-e-TV-11.jpg
END:VEVENT
END:VCALENDAR