BEGIN:VCALENDAR
VERSION:2.0
PRODID:-//Biblioteca Pública e Arquivo Regional Luís da Silva Ribeiro - ECPv4.9.10//NONSGML v1.0//EN
CALSCALE:GREGORIAN
METHOD:PUBLISH
X-WR-CALNAME:Biblioteca Pública e Arquivo Regional Luís da Silva Ribeiro
X-ORIGINAL-URL:https://bparlsr.azores.gov.pt
X-WR-CALDESC:Events for Biblioteca Pública e Arquivo Regional Luís da Silva Ribeiro
BEGIN:VTIMEZONE
TZID:Atlantic/Azores
BEGIN:DAYLIGHT
TZOFFSETFROM:-0100
TZOFFSETTO:+0000
TZNAME:+00
DTSTART:20210328T010000
END:DAYLIGHT
BEGIN:STANDARD
TZOFFSETFROM:+0000
TZOFFSETTO:-0100
TZNAME:-01
DTSTART:20211031T010000
END:STANDARD
END:VTIMEZONE
BEGIN:VEVENT
DTSTART;VALUE=DATE:20210709
DTEND;VALUE=DATE:20210711
DTSTAMP:20260425T022209
CREATED:20210630T142343Z
LAST-MODIFIED:20210630T143301Z
UID:6140-1625788800-1625961599@bparlsr.azores.gov.pt
SUMMARY:Contarolando: Contos e Exploração Sonora
DESCRIPTION:A Biblioteca Pública e Arquivo Regional Luís da Silva Ribeiro associa-se à Fundação GDA e ao projeto Som do Algodão para promover a formação “Contarolando: Contos e Exploração Sonora”\, nos próximos dias 9 e 10 de julho\, das 17h00 às 20h00 e às 13h00\, respetivamente. \nSendo aberta ao público em geral\, mas especialmente direcionada a educadores de infância\, professores\, bibliotecários\, auxiliares de ação educativa e animadores socioculturais\, esta iniciativa pretende trabalhar este género literário e a exploração sonora de forma integrada. \nDesta forma\, os participantes\, a partir de uma sessão de contos com música\, terão oportunidade de compreender\, in loco\, as dinâmicas envolvidas numa sessão que une narração oral e exploração sonora. \nSe tem interesse por este tema\, não perca esta iniciativa e inscreva-se pelo e-mail comunicacao.bparlsr@azores.gov.pt ou pelo  número 295 401 000 (valor de inscrição 50€). \nFacebookTwitterGoogle+\n\n\n\n\n
URL:https://bparlsr.azores.gov.pt/destaque/contarolando-contos-e-exploracao-sonora/
CATEGORIES:Biblioteca
ATTACH;FMTTYPE=image/jpeg:https://bparlsr.azores.gov.pt/wp-content/uploads/2021/06/2_sitioweb_Contarolando.jpg
END:VEVENT
END:VCALENDAR