BEGIN:VCALENDAR
VERSION:2.0
PRODID:-//Biblioteca Pública e Arquivo Regional Luís da Silva Ribeiro - ECPv4.9.10//NONSGML v1.0//EN
CALSCALE:GREGORIAN
METHOD:PUBLISH
X-WR-CALNAME:Biblioteca Pública e Arquivo Regional Luís da Silva Ribeiro
X-ORIGINAL-URL:https://bparlsr.azores.gov.pt
X-WR-CALDESC:Events for Biblioteca Pública e Arquivo Regional Luís da Silva Ribeiro
BEGIN:VTIMEZONE
TZID:Atlantic/Azores
BEGIN:DAYLIGHT
TZOFFSETFROM:-0100
TZOFFSETTO:+0000
TZNAME:+00
DTSTART:20220327T010000
END:DAYLIGHT
BEGIN:STANDARD
TZOFFSETFROM:+0000
TZOFFSETTO:-0100
TZNAME:-01
DTSTART:20221030T010000
END:STANDARD
END:VTIMEZONE
BEGIN:VEVENT
DTSTART;TZID=Atlantic/Azores:20220507T180000
DTEND;TZID=Atlantic/Azores:20220507T190000
DTSTAMP:20260425T113241
CREATED:20220429T163450Z
LAST-MODIFIED:20220429T163510Z
UID:9242-1651946400-1651950000@bparlsr.azores.gov.pt
SUMMARY:“Conversas na Biblioteca” com José Carlos Vasconcelos
DESCRIPTION:A Biblioteca Pública e Arquivo Regional Luís da Silva Ribeiro promove a iniciativa “Conversas na Biblioteca”\, que se realizará no dia 7 de maio às 18h. \nDando continuidade a esta iniciativa que\, noutras edições\, tem vindo a proporcionar uma partilha de impressões mais próxima entre o público e os palestrantes\, o tema desta “Conversa” será o Jornalismo Literário\, uma especialização do jornalismo feita com a arte da literatura. Esta sessão contará com a presença de José Carlos Vasconcelos\, diretor do Jornal de Letras\, que por sua vez trabalha temas em destaque nas áreas da literatura e da arte\, e moderação da jornalista Marta Silva\, da RTP- Açores. \nAlém de comparar os vários tipos de texto de comunicação\, pretende-se proporcionar uma reflexão crítica e um contacto próximo do leitor com a cultura. \nA participação neste evento será mediante inscrição prévia\, através do número 295 401 000 ou enviando um e-mail com nome e contacto para: comunicacao.bparlsr@azores.gov.pt. \nNotas Biográficas: \nJosé Carlos Vasconcelos \nJornalista\, advogado e poeta\, com intensa atividade cívica\, cultural e associativa em vários domínios\, iniciada na Póvoa de Varzim\, com continuidade para Coimbra\, onde foi dirigente estudantil\, chefe de redação da Via Latina e da Vértice\, ator do Teatro dos Estudantes\, etc. \nFoi para a redação do Diário de Lisboa\, onde foi presidente da comissão da Liberdade de Imprensa\, da assembleia geral e da direção do Sindicato e do Clube de Jornalistas\, advogado de presos políticos\, fez inúmeros recitais de poesia\, só ou com Carlos Paredes\, José Afonso e outros. Após o 25 de Abril\, integrou a Comissão do Livro Negro sobre o Regime Fascista\, esteve na direção do Diário de Notícias e da RTP\, fundou\, com outros jornalistas\, O Jornal\, de que foi diretor\, bem como diretor editorial do grupo (Se7e\, JL\, História\, Jornal da Educação\, editora\, TSF-Rádio Jornal)\, e\, depois\, da Visão. Do JL\, Jornal de Letras\, mantém-se diretor desde que o criou\, há 42 anos. Entre muito mais\, pertenceu às comissões políticas das candidaturas de Ramalho Eanes\, como deputado presidiu à comissão parlamentar Luso-Brasileira\, integrou o Conselho Geral da Fundação Gulbenkian e o da Universidade de Coimbra\, etc. \nTem publicados nove livros de poemas\, três infantojuvenis e um sobre Lei/Liberdade de Imprensa. Entre outras distinções foram-lhe atribuídos\, como jornalista\, todos os prémios de carreira ou prestígio (Casa da Imprensa\, Clube de Jornalistas\, Clube de Imprensa\, Fundação Sec. XXI) e\, na sua 1ª edição\, para personalidades dos dois países\, o de Cultura da Fundação Luso-Brasileira. \n  \nMarta Silva \nLicenciada em Ciências de Comunicação na Faculdade de Ciências Sociais e Humanas\, na Universidade Nova de Lisboa. \nÉ jornalista na RTP – Açores desde 1995\, tendo passado\, anteriormente pela Rádio Renascença e pela TVI. \nO seu trabalho destaca-se em diferentes áreas\, desde a reportagem à apresentação informativa\, passando pela coordenação e autoria de programas. \nEstá ligada ao jornalismo de investigação regional e já lecionou “História dos Média” no ensino profissional\, em Angra do Heroísmo. \n  \nFacebookTwitterGoogle+\n\n\n\n\n
URL:https://bparlsr.azores.gov.pt/destaque/conversas-na-biblioteca-com-jose-carlos-vasconcelos/
CATEGORIES:Biblioteca
ATTACH;FMTTYPE=image/jpeg:https://bparlsr.azores.gov.pt/wp-content/uploads/2022/04/Jornalismo-Literário-Sitio-Web.jpg
END:VEVENT
END:VCALENDAR