BEGIN:VCALENDAR
VERSION:2.0
PRODID:-//Biblioteca Pública e Arquivo Regional Luís da Silva Ribeiro - ECPv4.9.10//NONSGML v1.0//EN
CALSCALE:GREGORIAN
METHOD:PUBLISH
X-WR-CALNAME:Biblioteca Pública e Arquivo Regional Luís da Silva Ribeiro
X-ORIGINAL-URL:https://bparlsr.azores.gov.pt
X-WR-CALDESC:Events for Biblioteca Pública e Arquivo Regional Luís da Silva Ribeiro
BEGIN:VTIMEZONE
TZID:Atlantic/Azores
BEGIN:DAYLIGHT
TZOFFSETFROM:-0100
TZOFFSETTO:+0000
TZNAME:+00
DTSTART:20230326T010000
END:DAYLIGHT
BEGIN:STANDARD
TZOFFSETFROM:+0000
TZOFFSETTO:-0100
TZNAME:-01
DTSTART:20231029T010000
END:STANDARD
END:VTIMEZONE
BEGIN:VEVENT
DTSTART;TZID=Atlantic/Azores:20231116T180000
DTEND;TZID=Atlantic/Azores:20231116T190000
DTSTAMP:20260424T210136
CREATED:20231113T175749Z
LAST-MODIFIED:20231113T175755Z
UID:11186-1700157600-1700161200@bparlsr.azores.gov.pt
SUMMARY:“Da Ideia ao Espaço Expositivo”
DESCRIPTION:Se tem interesse por artes plásticas\, venha à Biblioteca para uma conversa\, moderada por Tatiana Ourique\, com a artista plástica Catarina Branco\, no dia 16 de novembro\, às 18h00. Nesta conversa pretende-se que sejam explorados conceitos como o discurso expositivo\, a influência do espaço no sentido estético e o impacto do espaço na criatividade. \n  \nBiografia \nTatiana Ourique \nTatiana Costa Ourique nasceu na Agualva\, ilha Terceira\, e licenciou-se em Ciências da Comunicação: Jornalismo\, Assessoria e Multimédia na Faculdade de Letras da Universidade do Porto.\nÉ técnica Superior de comunicação da Direção Regional dos Assuntos Culturais. Colabora assiduamente com o jornal Açoriano Oriental\, apresenta e produz o programa de rádio Igreja Açores da Diocese de Angra. É\, também\, apresentadora da RTP. \n  \nBiografia \nCatarina Branco \nTem 49 anos e 19 deles foram passados na Lagoa a dar aulas de Educação Visual e História da Arte na escola secundária do concelho. Catarina Branco nasceu em Ponta Delgada mas viveu grande parte da infância nos Fenais da Luz. Depois de concluir os estudos no liceu Antero de Quental fez as malas e seguiu para Lisboa\, onde completou a licenciatura em Pintura na Faculdade de Belas Artes da capital. O seu trabalho já foi contemplado no Brasil\, na Califórnia\, Estados Unidos\, na vizinha Espanha\, e várias vezes em Lisboa. \n  \n  \nFacebookTwitterGoogle+\n\n\n\n\n
URL:https://bparlsr.azores.gov.pt/destaque/da-ideia-ao-espaco-expositivo/
CATEGORIES:Biblioteca
ATTACH;FMTTYPE=image/jpeg:https://bparlsr.azores.gov.pt/wp-content/uploads/2023/11/1_sitioweb_conversa_da_ideia_ao_espaço_expositivo_Prancheta-1_Easy-Resize.com_.jpg
END:VEVENT
END:VCALENDAR