BEGIN:VCALENDAR
VERSION:2.0
PRODID:-//Biblioteca Pública e Arquivo Regional Luís da Silva Ribeiro - ECPv4.9.10//NONSGML v1.0//EN
CALSCALE:GREGORIAN
METHOD:PUBLISH
X-WR-CALNAME:Biblioteca Pública e Arquivo Regional Luís da Silva Ribeiro
X-ORIGINAL-URL:https://bparlsr.azores.gov.pt
X-WR-CALDESC:Events for Biblioteca Pública e Arquivo Regional Luís da Silva Ribeiro
BEGIN:VTIMEZONE
TZID:Atlantic/Azores
BEGIN:DAYLIGHT
TZOFFSETFROM:-0100
TZOFFSETTO:+0000
TZNAME:+00
DTSTART:20180325T010000
END:DAYLIGHT
BEGIN:STANDARD
TZOFFSETFROM:+0000
TZOFFSETTO:-0100
TZNAME:-01
DTSTART:20181028T010000
END:STANDARD
END:VTIMEZONE
BEGIN:VEVENT
DTSTART;TZID=Atlantic/Azores:20180511T090000
DTEND;TZID=Atlantic/Azores:20180511T190000
DTSTAMP:20260426T023227
CREATED:20180507T141344Z
LAST-MODIFIED:20180507T141344Z
UID:2407-1526029200-1526065200@bparlsr.azores.gov.pt
SUMMARY:Dia Aberto do Arquivo
DESCRIPTION:“Dia Aberto do Arquivo” \nData: 11 de maio\nHora: Horário de funcionamento da Biblioteca\nLocal: Biblioteca Pública e Arquivo Regional Luís da Silva Ribeiro\nPúblico-alvo: Público em geral\nMediante inscrição prévia (295 401 000) \nA Biblioteca Pública e Arquivo Regional Luís da Silva Ribeiro promove no próximo dia 11 de maio\, mais um dia aberto do arquivo\, desta vez\, temático: serviços prestados pelo arquivo e o ciclo do documento- desde a sua entrada no edifício\, orientado pelas funcionárias Diana Nunes e Fátima Borba. \nDIANA MARIA AREIAS NUNES nasceu em 1985 e é licenciada em Documentação e arquivística pela Universidade de Aveiro no ano de 2010. Desempenha funções como técnica superior na divisão de arquivo da Biblioteca Pública e Arquivo Regional Luís da Silva Ribeiro.\nMaria de Fátima da Silva Borba\, nasceu em 1964\, na Ilha Terceira. Técnica superior na Biblioteca Pública e Arquivo Regional Luís da Silva Ribeiro. Licenciada em História e pós-graduada em Ciências da Informação e da Documentação. \nFacebookTwitterGoogle+\n\n\n\n\n
URL:https://bparlsr.azores.gov.pt/destaque/dia-aberto-do-arquivo-3/
CATEGORIES:Arquivo Regional
ATTACH;FMTTYPE=image/jpeg:https://bparlsr.azores.gov.pt/wp-content/uploads/2018/05/Imagem-TV.jpg
END:VEVENT
END:VCALENDAR