BEGIN:VCALENDAR
VERSION:2.0
PRODID:-//Biblioteca Pública e Arquivo Regional Luís da Silva Ribeiro - ECPv4.9.10//NONSGML v1.0//EN
CALSCALE:GREGORIAN
METHOD:PUBLISH
X-WR-CALNAME:Biblioteca Pública e Arquivo Regional Luís da Silva Ribeiro
X-ORIGINAL-URL:https://bparlsr.azores.gov.pt
X-WR-CALDESC:Events for Biblioteca Pública e Arquivo Regional Luís da Silva Ribeiro
BEGIN:VTIMEZONE
TZID:Atlantic/Azores
BEGIN:DAYLIGHT
TZOFFSETFROM:-0100
TZOFFSETTO:+0000
TZNAME:+00
DTSTART:20180325T010000
END:DAYLIGHT
BEGIN:STANDARD
TZOFFSETFROM:+0000
TZOFFSETTO:-0100
TZNAME:-01
DTSTART:20181028T010000
END:STANDARD
END:VTIMEZONE
BEGIN:VEVENT
DTSTART;TZID=Atlantic/Azores:20181214T150000
DTEND;TZID=Atlantic/Azores:20181214T160000
DTSTAMP:20260426T012934
CREATED:20181212T120634Z
LAST-MODIFIED:20181212T120634Z
UID:2968-1544799600-1544803200@bparlsr.azores.gov.pt
SUMMARY:Dia aberto do Arquivo
DESCRIPTION:Dia aberto do Arquivo: Encadernação/Restauro\nData: 14 dezembro\nHora: 15:00\nLocal: Biblioteca Pública e Arquivo Regional Luís da Silva Ribeiro\nPúblico-alvo: Público em geral\nMediante inscrição prévia (295 401 000)\nA Biblioteca Pública e Arquivo Regional Luís da Silva Ribeiro promove no próximo dia 14 de dezembro\, mais um dia aberto do arquivo\, desta vez\, temático: encadernação/restauro\, orientado pelos funcionários Rui Lima e João Abreu.\nSerá uma demonstração de como se cuida de um documento/livro na encadernação e no restauro.\nRui Francisco dos Santos Lima é Assistente Técnico na Biblioteca Pública e Arquivo Regional Luís da Silva Ribeiro.\nJoão Abreu é Assistente Operacional na Biblioteca Pública e Arquivo Luís da Silva Ribeiro.\nFacebookTwitterGoogle+\n\n\n\n\n
URL:https://bparlsr.azores.gov.pt/destaque/dia-aberto-do-arquivo-4/
CATEGORIES:Arquivo Regional
ATTACH;FMTTYPE=image/jpeg:https://bparlsr.azores.gov.pt/wp-content/uploads/2018/12/Sítio-web-e-TV-5.jpg
END:VEVENT
END:VCALENDAR