BEGIN:VCALENDAR
VERSION:2.0
PRODID:-//Biblioteca Pública e Arquivo Regional Luís da Silva Ribeiro - ECPv4.9.10//NONSGML v1.0//EN
CALSCALE:GREGORIAN
METHOD:PUBLISH
X-WR-CALNAME:Biblioteca Pública e Arquivo Regional Luís da Silva Ribeiro
X-ORIGINAL-URL:https://bparlsr.azores.gov.pt
X-WR-CALDESC:Events for Biblioteca Pública e Arquivo Regional Luís da Silva Ribeiro
BEGIN:VTIMEZONE
TZID:Atlantic/Azores
BEGIN:DAYLIGHT
TZOFFSETFROM:-0100
TZOFFSETTO:+0000
TZNAME:+00
DTSTART:20210328T010000
END:DAYLIGHT
BEGIN:STANDARD
TZOFFSETFROM:+0000
TZOFFSETTO:-0100
TZNAME:-01
DTSTART:20211031T010000
END:STANDARD
END:VTIMEZONE
BEGIN:VEVENT
DTSTART;VALUE=DATE:20210218
DTEND;VALUE=DATE:20210314
DTSTAMP:20260425T185455
CREATED:20210212T161236Z
LAST-MODIFIED:20210212T161252Z
UID:5204-1613606400-1615679999@bparlsr.azores.gov.pt
SUMMARY:Dia Internacional da Língua Materna
DESCRIPTION:Data: 18 de fevereiro a 13 de março \nHorário: Horário de funcionamento da Biblioteca \nLocal: Sala de Leitura e Empréstimo Domiciliário \nPúblico-alvo: Estudantes\, professores e linguistas \n  \nA Biblioteca Pública e Arquivo Regional Luís da Silva Ribeiro assinala o Dia Internacional da Língua Materna – 21 de fevereiro\, com uma mostra que remete para este tema. \nA efeméride\, proclamada pela UNESCO em 1999\, pretende realçar a importância da diversidade linguística e cultural. \nAo visitar a Sala de Leitura e Empréstimo Domiciliário\, entre os dias 18 de fevereiro e 13 de março\, poderá conhecer uma seleção de livros de países de língua portuguesa. \nAproveite esta mostra\, leve uma destas obras consigo e aprofunde o seu conhecimento nesta área. \nFacebookTwitterGoogle+\n\n\n\n\n
URL:https://bparlsr.azores.gov.pt/destaque/dia-internacional-da-lingua-materna/
CATEGORIES:Biblioteca
ATTACH;FMTTYPE=image/jpeg:https://bparlsr.azores.gov.pt/wp-content/uploads/2021/02/2_sitioweb-3.jpg
END:VEVENT
END:VCALENDAR