BEGIN:VCALENDAR
VERSION:2.0
PRODID:-//Biblioteca Pública e Arquivo Regional Luís da Silva Ribeiro - ECPv4.9.10//NONSGML v1.0//EN
CALSCALE:GREGORIAN
METHOD:PUBLISH
X-WR-CALNAME:Biblioteca Pública e Arquivo Regional Luís da Silva Ribeiro
X-ORIGINAL-URL:https://bparlsr.azores.gov.pt
X-WR-CALDESC:Events for Biblioteca Pública e Arquivo Regional Luís da Silva Ribeiro
BEGIN:VTIMEZONE
TZID:Atlantic/Azores
BEGIN:DAYLIGHT
TZOFFSETFROM:-0100
TZOFFSETTO:+0000
TZNAME:+00
DTSTART:20190331T010000
END:DAYLIGHT
BEGIN:STANDARD
TZOFFSETFROM:+0000
TZOFFSETTO:-0100
TZNAME:-01
DTSTART:20191027T010000
END:STANDARD
END:VTIMEZONE
BEGIN:VEVENT
DTSTART;VALUE=DATE:20190904
DTEND;VALUE=DATE:20191001
DTSTAMP:20260424T172519
CREATED:20190827T104530Z
LAST-MODIFIED:20190827T104530Z
UID:3417-1567555200-1569887999@bparlsr.azores.gov.pt
SUMMARY:Dia Internacional da Literacia
DESCRIPTION:Dia Internacional da Literacia\nData: 4 a 30 de setembro\nHora: durante o horário de funcionamento do serviço\nLocal: Biblioteca Pública e Arquivo Regional Luís da Silva Ribeiro\nPúblico-alvo: público em geral\nA Biblioteca Pública e Arquivo Regional Luís da Silva Ribeiro promove uma mostra de livros sobre a temática da “Literacia” e uma campanha de angariação de livros e material escolar\, com o intuito de fazer uma doação às escolas de Cabo verde.\nEsta atividade vem celebrar o “Dia Internacional da Literacia”\, que se comemora no dia 8 de setembro.\nFacebookTwitterGoogle+\n\n\n\n\n
URL:https://bparlsr.azores.gov.pt/destaque/dia-internacional-da-literacia/
CATEGORIES:Biblioteca
ATTACH;FMTTYPE=image/jpeg:https://bparlsr.azores.gov.pt/wp-content/uploads/2019/08/Sítio-web-e-TV-1.jpg
END:VEVENT
END:VCALENDAR