BEGIN:VCALENDAR
VERSION:2.0
PRODID:-//Biblioteca Pública e Arquivo Regional Luís da Silva Ribeiro - ECPv4.9.10//NONSGML v1.0//EN
CALSCALE:GREGORIAN
METHOD:PUBLISH
X-WR-CALNAME:Biblioteca Pública e Arquivo Regional Luís da Silva Ribeiro
X-ORIGINAL-URL:https://bparlsr.azores.gov.pt
X-WR-CALDESC:Events for Biblioteca Pública e Arquivo Regional Luís da Silva Ribeiro
BEGIN:VTIMEZONE
TZID:Atlantic/Azores
BEGIN:DAYLIGHT
TZOFFSETFROM:-0100
TZOFFSETTO:+0000
TZNAME:+00
DTSTART:20180325T010000
END:DAYLIGHT
BEGIN:STANDARD
TZOFFSETFROM:+0000
TZOFFSETTO:-0100
TZNAME:-01
DTSTART:20181028T010000
END:STANDARD
END:VTIMEZONE
BEGIN:VEVENT
DTSTART;TZID=Atlantic/Azores:20180402T100000
DTEND;TZID=Atlantic/Azores:20180402T110000
DTSTAMP:20260426T012932
CREATED:20180324T154128Z
LAST-MODIFIED:20180403T155638Z
UID:1489-1522663200-1522666800@bparlsr.azores.gov.pt
SUMMARY:Dia Internacional do Livro Infantil
DESCRIPTION:Dia Internacional do Livro Infantil \nEncontro com escritor… Vânia Leal Oliveira \n  \nData: 2 de abril \nHora: das 10h00 às 11h00 \nLocal: Biblioteca Pública e Arquivo Regional Luís da Silva Ribeiro \nDestinatários: Público familiar e escolar \nInscrição Prévia: até 29 de março\, através do contato telefónico 295 401 000 ou nas instalações da Biblioteca \n  \nA Biblioteca Pública e Arquivo Regional Luís da Silva Ribeiro tem a honra de assinalar o Dia Internacional do Livro Infantil\, proporcionando à comunidade escolar e à sociedade civil a oportunidade de contactar com a escritora Vânia Leal Oliveira\, cuja obra integra o Plano Regional de Leitura. \nA autora começará por apresentar a sua “Coleção Educação para a Saúde”\, realçando a importância da adoção de estilos de vida saudáveis\, o mais precocemente possível\, como forma de prevenir futuras doenças. Vânia Oliveira irá também proporcionar aos participantes um momento dedicado à escuta do seu primeiro título O coração de Luana\, seguindo-se um pequeno debate de reflexão e sensibilização. Terminará a sessão com algumas propostas nas áreas da expressão plástica e dramática. \nA autora reservará\, no final\, um momento para autógrafos. \nVânia Leal Oliveira nasceu em Angra do heroísmo e terminou em 2009 a licenciatura em Educação Básica pela Universidade dos Açores. \nExerce a função de educadora de infância no colégio Divertiláxia – Creche e Jardim de Infância. É responsável pelo lançamento de livros infantis e pedagógicos\, sob a égide da Edições Divertiláxia. \nO Coração de Luana\, A Curiosidade de Frederico e o Bigode Picante do Avô Roberto são alguns dos títulos publicados. \nFacebookTwitterGoogle+\n\n\n\n\n
URL:https://bparlsr.azores.gov.pt/destaque/dia-internacional-do-livro-infantil/
CATEGORIES:Biblioteca Infantojuvenil
ATTACH;FMTTYPE=image/jpeg:https://bparlsr.azores.gov.pt/wp-content/uploads/2018/03/Projeção-tv.jpg
END:VEVENT
END:VCALENDAR