BEGIN:VCALENDAR
VERSION:2.0
PRODID:-//Biblioteca Pública e Arquivo Regional Luís da Silva Ribeiro - ECPv4.9.10//NONSGML v1.0//EN
CALSCALE:GREGORIAN
METHOD:PUBLISH
X-WR-CALNAME:Biblioteca Pública e Arquivo Regional Luís da Silva Ribeiro
X-ORIGINAL-URL:https://bparlsr.azores.gov.pt
X-WR-CALDESC:Events for Biblioteca Pública e Arquivo Regional Luís da Silva Ribeiro
BEGIN:VTIMEZONE
TZID:Atlantic/Azores
BEGIN:DAYLIGHT
TZOFFSETFROM:-0100
TZOFFSETTO:+0000
TZNAME:+00
DTSTART:20210328T010000
END:DAYLIGHT
BEGIN:STANDARD
TZOFFSETFROM:+0000
TZOFFSETTO:-0100
TZNAME:-01
DTSTART:20211031T010000
END:STANDARD
END:VTIMEZONE
BEGIN:VEVENT
DTSTART;VALUE=DATE:20210922
DTEND;VALUE=DATE:20211014
DTSTAMP:20260425T195810
CREATED:20210917T101016Z
LAST-MODIFIED:20210917T101016Z
UID:6470-1632268800-1634169599@bparlsr.azores.gov.pt
SUMMARY:Dia Nacional da Banda Desenhada
DESCRIPTION:A Biblioteca Pública e Arquivo Regional Luís da Silva Ribeiro dá destaque à banda desenhada (BD)\, realizando uma mostra subordinada ao tema\, que decorrerá entre os dias 22 de setembro e 13 de outubro. \nAssinalado a 25 de setembro\, o Dia Nacional da Banda Desenhada é o mote para a seleção de livros que estarão disponíveis na Sala de Leitura e Empréstimo Domiciliário. \nTrata-se de um género cada vez mais procurado pelos nossos leitores\, e ao qual a Biblioteca se tem dedicado com o intuito de assegurar uma vasta e abalizada oferta aos seus leitores. \nAproveite para visitar esta mostra\, escolha uma das nossas novelas gráficas e disfrute da sua próxima leitura. \n  \n  \n  \nA Direção Regional da Cultura informa que este e outros eventos estão disponíveis para consulta na Agenda Cultural do Portal CulturAçores\, no seguinte endereço: \nwww.culturacores.gov.pt \nFacebookTwitterGoogle+\n\n\n\n\n
URL:https://bparlsr.azores.gov.pt/destaque/dia-nacional-da-banda-desenhada/
CATEGORIES:Biblioteca
ATTACH;FMTTYPE=image/jpeg:https://bparlsr.azores.gov.pt/wp-content/uploads/2021/09/2_sitioweb-1.jpg
END:VEVENT
END:VCALENDAR