BEGIN:VCALENDAR
VERSION:2.0
PRODID:-//Biblioteca Pública e Arquivo Regional Luís da Silva Ribeiro - ECPv4.9.10//NONSGML v1.0//EN
CALSCALE:GREGORIAN
METHOD:PUBLISH
X-WR-CALNAME:Biblioteca Pública e Arquivo Regional Luís da Silva Ribeiro
X-ORIGINAL-URL:https://bparlsr.azores.gov.pt
X-WR-CALDESC:Events for Biblioteca Pública e Arquivo Regional Luís da Silva Ribeiro
BEGIN:VTIMEZONE
TZID:Atlantic/Azores
BEGIN:DAYLIGHT
TZOFFSETFROM:-0100
TZOFFSETTO:+0000
TZNAME:+00
DTSTART:20210328T010000
END:DAYLIGHT
BEGIN:STANDARD
TZOFFSETFROM:+0000
TZOFFSETTO:-0100
TZNAME:-01
DTSTART:20211031T010000
END:STANDARD
END:VTIMEZONE
BEGIN:VEVENT
DTSTART;VALUE=DATE:20210930
DTEND;VALUE=DATE:20211001
DTSTAMP:20260425T180553
CREATED:20210929T092000Z
LAST-MODIFIED:20210929T113143Z
UID:6514-1632960000-1633046399@bparlsr.azores.gov.pt
SUMMARY:Doação de Carlos Enes à BPARLSR
DESCRIPTION:A Biblioteca Pública e Arquivo Regional Luís da Silva Ribeiro recebeu\, no dia 16 de junho de 2021\, uma doação por parte do historiador Carlos Enes\, constituída por mais de mil volumes. \nAs obras doadas faziam parte da biblioteca pessoal do autor terceirense\, estando agora à guarda da instituição. \nNum total de 20 caixas\, a documentação entregue divide-se em mais de 1300 livros\, sendo 733 sobre a temática açoriana e 608 sobre temática geral\, 285 periódicos\, 15 panfletos e programas antigos\, e\, ainda\, sete capas com documentos. \nApós darem entrada na Biblioteca\, estes artigos passam por um criterioso processo\, que se inicia com a sua colocação na câmara de expurgo\, onde são eliminados quaisquer vestígios biológicos. Após esse período\, é feita uma higienização e um tratamento documental\, sendo posteriormente registados e catalogados\, e\, por fim\, colocados nos depósitos. Quando todo este processo estiver concluído\, a obra doada fica disponível para consulta. \nAs doações de objetos ou documentos pessoais\, familiares\, de empresas ou instituições\, podem ser feitas por qualquer cidadão que deseje preservar o seu património\, à semelhança do que foi feito por Carlos Enes. \nFacebookTwitterGoogle+\n\n\n\n\n
URL:https://bparlsr.azores.gov.pt/destaque/doacao-de-carlos-enes-a-bparlsr/
CATEGORIES:Biblioteca
ATTACH;FMTTYPE=image/jpeg:https://bparlsr.azores.gov.pt/wp-content/uploads/2021/09/imagem.jpg
END:VEVENT
END:VCALENDAR