BEGIN:VCALENDAR
VERSION:2.0
PRODID:-//Biblioteca Pública e Arquivo Regional Luís da Silva Ribeiro - ECPv4.9.10//NONSGML v1.0//EN
CALSCALE:GREGORIAN
METHOD:PUBLISH
X-WR-CALNAME:Biblioteca Pública e Arquivo Regional Luís da Silva Ribeiro
X-ORIGINAL-URL:https://bparlsr.azores.gov.pt
X-WR-CALDESC:Events for Biblioteca Pública e Arquivo Regional Luís da Silva Ribeiro
BEGIN:VTIMEZONE
TZID:Atlantic/Azores
BEGIN:DAYLIGHT
TZOFFSETFROM:-0100
TZOFFSETTO:+0000
TZNAME:+00
DTSTART:20180325T010000
END:DAYLIGHT
BEGIN:STANDARD
TZOFFSETFROM:+0000
TZOFFSETTO:-0100
TZNAME:-01
DTSTART:20181028T010000
END:STANDARD
END:VTIMEZONE
BEGIN:VEVENT
DTSTART;TZID=Atlantic/Azores:20180702T090000
DTEND;TZID=Atlantic/Azores:20180731T170000
DTSTAMP:20260421T103240
CREATED:20180628T122128Z
LAST-MODIFIED:20180628T122128Z
UID:2574-1530522000-1533056400@bparlsr.azores.gov.pt
SUMMARY:Documento do mês
DESCRIPTION:Documento do mês \nData: 2 de julho\nHora: 14:00\nLocal: Biblioteca Pública e Arquivo Regional Luís da Silva Ribeiro\nPúblico-alvo: Público em geral \nA Biblioteca Pública e Arquivo Regional Luís da Silva Ribeiro apresenta este mês de julho mais um documento\, que vem de algum modo complementar e enriquecer as informações sobre a genealogia\, a história local\, a história das mentalidades e outras.\nNeste mês de julho\, o documento em destaque será:\nPassaporte com fotografia de 1968 (279/68) de João Correia Picanço\, da Ilha Graciosa. \nFacebookTwitterGoogle+\n\n\n\n\n
URL:https://bparlsr.azores.gov.pt/destaque/documento-do-mes-2/
CATEGORIES:Arquivo Regional,Exposições
ATTACH;FMTTYPE=image/jpeg:https://bparlsr.azores.gov.pt/wp-content/uploads/2018/06/Sítio-web-e-TV-13.jpg
END:VEVENT
END:VCALENDAR