BEGIN:VCALENDAR
VERSION:2.0
PRODID:-//Biblioteca Pública e Arquivo Regional Luís da Silva Ribeiro - ECPv4.9.10//NONSGML v1.0//EN
CALSCALE:GREGORIAN
METHOD:PUBLISH
X-WR-CALNAME:Biblioteca Pública e Arquivo Regional Luís da Silva Ribeiro
X-ORIGINAL-URL:https://bparlsr.azores.gov.pt
X-WR-CALDESC:Events for Biblioteca Pública e Arquivo Regional Luís da Silva Ribeiro
BEGIN:VTIMEZONE
TZID:Atlantic/Azores
BEGIN:DAYLIGHT
TZOFFSETFROM:-0100
TZOFFSETTO:+0000
TZNAME:+00
DTSTART:20190331T010000
END:DAYLIGHT
BEGIN:STANDARD
TZOFFSETFROM:+0000
TZOFFSETTO:-0100
TZNAME:-01
DTSTART:20191027T010000
END:STANDARD
END:VTIMEZONE
BEGIN:VEVENT
DTSTART;TZID=Atlantic/Azores:20191109T140000
DTEND;TZID=Atlantic/Azores:20191109T153000
DTSTAMP:20260426T001658
CREATED:20191105T182412Z
LAST-MODIFIED:20191105T182412Z
UID:3540-1573308000-1573313400@bparlsr.azores.gov.pt
SUMMARY:Encontro com o Escritor - Isabel Silwell
DESCRIPTION:“Encontro com o Escritor” Isabel Silwell\nData: 9 de novembro\nHora: 14:00\nLocal: Biblioteca Pública e Arquivo Regional Luís da Silva Ribeiro\nPúblico-alvo: público em geral\nA escritora e jornalista Isabel Stilwell estará na Biblioteca Pública e Arquivo Regional Luís da Silva Ribeiro\, no sábado\, dia 9 de novembro\, para uma sessão moderada por Francisco Maduro-Dias. Trata-se de uma parceria que esta instituição tem vindo a realizar com a organização do Festival “Outono Vivo” e com a Câmara Municipal da Praia da Vitória.\nO “Encontro com o Escritor”\, atividade que esta instituição promove com regularidade\, tem  por  objetivo trazer ao público diferentes formas de expressão literária e proporcionar um contacto mais direto com os escritores.\nIsabel Stilwell é jornalista e escritora. a sua grande paixão por romances históricos revelou-se em 2007\, com o bestseller D. Filipa de Lencastre\, a que se seguiram D. Catarina de Bragança\, ambos traduzidos para inglês\, e D. Amélia\, sempre com crescente sucesso.\nEm abril de 2012\, foi a vez de publicar D. Maria II\, que mereceu uma edição especial para o mercado brasileiro. Em outubro de 2013 lançou Ínclita Geração – Isabel de Borgonha\, em 2015\, a história da mãe do primeiro rei de Portugal\, D. Teresa e em 2017 um romance sobre a vida da Rainha Santa\, Isabel de Aragão\, eleito o 2º melhor livro de ficção\, no Prémio Livro do Ano Bertrand.\nDesde o Diário de Notícias\, onde começou aos 21 anos\, que contribui de forma essencial para o jornalismo português. Fundou e dirigiu a revista Pais & Filhos\, foi diretora da revista Notícias Magazine durante 13 anos e diretora do jornal Destak até ao final do ano de 2012\, entre muitos outros projetos. Atualmente escreve para a revista Máxima\, tendo uma das suas peças sobre a adoção em Portugal («Não amam nem deixam amar»\, em conjunto com a jornalista Carla Marina Mendes) sido distinguida com o 1º Prémio de Jornalismo «Os Direitos da Criança em Notícia». Continua a colaborar mensalmente com a revista Pais e com o Jornal de Negócios\, quando não está a escrever\, vira diariamente os «Dias do Avesso» em conversa com Eduardo Sá\, na Antena 1.\nFacebookTwitterGoogle+\n\n\n\n\n
URL:https://bparlsr.azores.gov.pt/destaque/encontro-com-o-escritor-isabel-silwell/
CATEGORIES:Biblioteca
ATTACH;FMTTYPE=image/jpeg:https://bparlsr.azores.gov.pt/wp-content/uploads/2019/11/Sítio-web-e-TV-3.jpg
END:VEVENT
END:VCALENDAR