BEGIN:VCALENDAR
VERSION:2.0
PRODID:-//Biblioteca Pública e Arquivo Regional Luís da Silva Ribeiro - ECPv4.9.10//NONSGML v1.0//EN
CALSCALE:GREGORIAN
METHOD:PUBLISH
X-WR-CALNAME:Biblioteca Pública e Arquivo Regional Luís da Silva Ribeiro
X-ORIGINAL-URL:https://bparlsr.azores.gov.pt
X-WR-CALDESC:Events for Biblioteca Pública e Arquivo Regional Luís da Silva Ribeiro
BEGIN:VTIMEZONE
TZID:Atlantic/Azores
BEGIN:DAYLIGHT
TZOFFSETFROM:-0100
TZOFFSETTO:+0000
TZNAME:+00
DTSTART:20180325T010000
END:DAYLIGHT
BEGIN:STANDARD
TZOFFSETFROM:+0000
TZOFFSETTO:-0100
TZNAME:-01
DTSTART:20181028T010000
END:STANDARD
END:VTIMEZONE
BEGIN:VEVENT
DTSTART;TZID=Atlantic/Azores:20181108T180000
DTEND;TZID=Atlantic/Azores:20181108T190000
DTSTAMP:20260424T190022
CREATED:20181105T144259Z
LAST-MODIFIED:20181105T144313Z
UID:2890-1541700000-1541703600@bparlsr.azores.gov.pt
SUMMARY:Encontro com o Escritor – Joel Neto
DESCRIPTION:Encontro com o Escritor – Joel Neto \nData: 8 de novembro\nHora: 18:00\nLocal: Biblioteca Pública e Arquivo Regional Luís da Silva Ribeiro\nPúblico-alvo: Público em geral \nA Biblioteca Pública e Arquivo Regional Luís da Silva Ribeiro promove mais um “Encontro com o Escritor”\, com a presença de Joel Neto\, numa sessão moderada por Pedro Corvelo.\nNesta sessão aberta ao público em geral haverá oportunidade de conhecer um pouco mais do romancista e colunista português\, autor de uma dúzia de livros dos mais diferentes géneros\, que começou por atingir os tops de vendas nacionais com Arquipélago (romance\, 2015) e A Vida no Campo (diário\, 2016)\, ambos igualmente bem acolhidos pela crítica. O seu mais recente romance\, Meridiano 28\, foi editado na primavera de 2018\, com a chancela da Cultura Editora\, e não tardou a chegar aos tops também.\nSobre a sua escrita\, disse João de Melo\, autor de Gente Feliz com Lágrimas «Será difícil\, e talvez inútil\, rotulá-lo quanto à sua filiação literária\, tanto nos Açores como no continente». «A única evidência\, e sobretudo a mais natural\, é a da sua pertença à grande literatura portuguesa. Ponto final.» \nJoel Neto (n. 1974) nasceu na ilha Terceira\, nos Açores\, e mudou-se para Lisboa aos 18 anos\, para estudar Relações Internacionais no Instituto Superior de Ciências Sociais e Políticas. Depois de década e meia de trabalho como repórter\, editor e chefe de redação na maior parte dos grandes jornais e revistas portugueses\, voltou à ilha natal em 2012\, determinado a dedicar-se inteiramente à literatura.\nColunista de alguns dos principais jornais nacionais\, nomeadamente Diário de Notícias e O Jogo\, publica regularmente em revistas e antologias literárias portuguesas e estrangeiras. Tem livros e contos traduzidos e/ou publicados em países como Reino Unido\, Espanha\, Itália\, Polónia\, Brasil ou Japão. \nFacebookTwitterGoogle+\n\n\n\n\n
URL:https://bparlsr.azores.gov.pt/destaque/encontro-com-o-escritor-joel-neto/
CATEGORIES:Biblioteca
ATTACH;FMTTYPE=image/jpeg:https://bparlsr.azores.gov.pt/wp-content/uploads/2018/11/Sítio-web-e-TV-1.jpg
END:VEVENT
END:VCALENDAR