BEGIN:VCALENDAR
VERSION:2.0
PRODID:-//Biblioteca Pública e Arquivo Regional Luís da Silva Ribeiro - ECPv4.9.10//NONSGML v1.0//EN
CALSCALE:GREGORIAN
METHOD:PUBLISH
X-WR-CALNAME:Biblioteca Pública e Arquivo Regional Luís da Silva Ribeiro
X-ORIGINAL-URL:https://bparlsr.azores.gov.pt
X-WR-CALDESC:Events for Biblioteca Pública e Arquivo Regional Luís da Silva Ribeiro
BEGIN:VTIMEZONE
TZID:Atlantic/Azores
BEGIN:DAYLIGHT
TZOFFSETFROM:-0100
TZOFFSETTO:+0000
TZNAME:+00
DTSTART:20190331T010000
END:DAYLIGHT
BEGIN:STANDARD
TZOFFSETFROM:+0000
TZOFFSETTO:-0100
TZNAME:-01
DTSTART:20191027T010000
END:STANDARD
END:VTIMEZONE
BEGIN:VEVENT
DTSTART;TZID=Atlantic/Azores:20190607T113000
DTEND;TZID=Atlantic/Azores:20190607T123000
DTSTAMP:20260424T213756
CREATED:20190603T092911Z
LAST-MODIFIED:20190603T092911Z
UID:3302-1559907000-1559910600@bparlsr.azores.gov.pt
SUMMARY:Encontro com o ilustrador Paulo Galindro
DESCRIPTION:“Encontro com o ilustrador Paulo Galindro”\nData: 7 de junho\nLocal: Biblioteca da EBS Tomás de Borba (às 9:30)\nLocal: Biblioteca Pública e Arquivo Regional Luís da Silva Ribeiro (às 11:30)\nDestinatários: público escolar \nA Biblioteca Pública e Arquivo Regional Luís da Silva Ribeiro promove no dia 7 de junho o evento “Encontro com o ilustrador Paulo Galindro\, em duas sessões para público escolar\, às 9:30 na Biblioteca da EBS Tomás de Borba e às 11:30 no auditório da BPARLSR\, mediante marcação prévia.\nNascido em 1970 e licenciado em arquitetura\, Paulo Galindro é autor de diversos livros ilustrados\, feitos em parceria com alguns dos mais importantes escritores nacionais e internacionais\, como Luís Sepúlveda\, António Mota\, David Machado\, entre outros. Viu a sua obra premiada por diversas vezes. Juntamente com Natalina Cóias criou o coletivo de ilustração Pintarriscos.\nOs grupos interessados\, do 2.º ciclo ao secundário\, devem contatar a equipa infantojuvenil através do telefone 295 401 000 ou endereço ricardo.ne.avila@azores.gov.pt. As inscrições são limitadas.\nFacebookTwitterGoogle+\n\n\n\n\n
URL:https://bparlsr.azores.gov.pt/destaque/encontro-com-o-ilustrador-paulo-galindro/
CATEGORIES:Biblioteca Infantojuvenil
ATTACH;FMTTYPE=image/jpeg:https://bparlsr.azores.gov.pt/wp-content/uploads/2019/06/Sítio-web-e-TV.jpg
END:VEVENT
END:VCALENDAR