BEGIN:VCALENDAR
VERSION:2.0
PRODID:-//Biblioteca Pública e Arquivo Regional Luís da Silva Ribeiro - ECPv4.9.10//NONSGML v1.0//EN
CALSCALE:GREGORIAN
METHOD:PUBLISH
X-WR-CALNAME:Biblioteca Pública e Arquivo Regional Luís da Silva Ribeiro
X-ORIGINAL-URL:https://bparlsr.azores.gov.pt
X-WR-CALDESC:Events for Biblioteca Pública e Arquivo Regional Luís da Silva Ribeiro
BEGIN:VTIMEZONE
TZID:Atlantic/Azores
BEGIN:DAYLIGHT
TZOFFSETFROM:-0100
TZOFFSETTO:+0000
TZNAME:+00
DTSTART:20190331T010000
END:DAYLIGHT
BEGIN:STANDARD
TZOFFSETFROM:+0000
TZOFFSETTO:-0100
TZNAME:-01
DTSTART:20191027T010000
END:STANDARD
END:VTIMEZONE
BEGIN:VEVENT
DTSTART;VALUE=DATE:20190112
DTEND;VALUE=DATE:20190331
DTSTAMP:20260425T230322
CREATED:20190107T173920Z
LAST-MODIFIED:20190107T173920Z
UID:3016-1547251200-1553990399@bparlsr.azores.gov.pt
SUMMARY:Exposição - Amigos de pano
DESCRIPTION:Exposição “Amigos de pano”\nData: 12 de janeiro\nHora: 15h45\nLocal: Biblioteca Pública e Arquivo Regional Luís da Silva Ribeiro\nDestinatários: público em geral\nA Biblioteca Pública e Arquivo Regional Luís da Silva Ribeiro inaugura a exposição “Amigos de pano”\, dando a conhecer um dos projetos de continuidade para 2019\, neste caso resultado do workshop protagonizado por pessoas idosas no passado mês de dezembro\, cujas criações serão agora encaminhadas a crianças que delas necessitem\, ficando\, por sua vez responsáveis\, as famílias\, por enviar carta de agradecimento ao autor.\nApresentada a atividade\, decorre na habitual Hora do conto para público familiar.\nFacebookTwitterGoogle+\n\n\n\n\n
URL:https://bparlsr.azores.gov.pt/destaque/exposicao-amigos-de-pano/
CATEGORIES:Biblioteca Infantojuvenil,Exposições
ATTACH;FMTTYPE=image/jpeg:https://bparlsr.azores.gov.pt/wp-content/uploads/2019/01/Sítio-web-e-TV-2.jpg
END:VEVENT
END:VCALENDAR