BEGIN:VCALENDAR
VERSION:2.0
PRODID:-//Biblioteca Pública e Arquivo Regional Luís da Silva Ribeiro - ECPv4.9.10//NONSGML v1.0//EN
CALSCALE:GREGORIAN
METHOD:PUBLISH
X-WR-CALNAME:Biblioteca Pública e Arquivo Regional Luís da Silva Ribeiro
X-ORIGINAL-URL:https://bparlsr.azores.gov.pt
X-WR-CALDESC:Events for Biblioteca Pública e Arquivo Regional Luís da Silva Ribeiro
BEGIN:VTIMEZONE
TZID:Atlantic/Azores
BEGIN:DAYLIGHT
TZOFFSETFROM:-0100
TZOFFSETTO:+0000
TZNAME:+00
DTSTART:20250330T010000
END:DAYLIGHT
BEGIN:STANDARD
TZOFFSETFROM:+0000
TZOFFSETTO:-0100
TZNAME:-01
DTSTART:20251026T010000
END:STANDARD
END:VTIMEZONE
BEGIN:VEVENT
DTSTART;VALUE=DATE:20250115
DTEND;VALUE=DATE:20250331
DTSTAMP:20260425T185316
CREATED:20250110T174934Z
LAST-MODIFIED:20250110T174955Z
UID:11819-1736899200-1743379199@bparlsr.azores.gov.pt
SUMMARY:Exposição de Pintura | Insight
DESCRIPTION:A Biblioteca Pública e Arquivo Regional Luís da Silva Ribeiro promove\, de 15 de janeiro a 30 de março\, a exposição Insight\, de Rita Evangelho. \nA exposição de pintura Insight é constituída por 11 obras em acrílico sobre tela\, que refletem a jornada do sujeito artístico que através de diversos olhares\, voltados para a busca da luz\, revelam a complexidade das emoções humanas e o anseio por um renascimento. Nesta exposição o público é convidado a descobrir o olhar intuitivo da artista que apreende de modo singular o mundo metafísico das formas e das cores do sujeito implicado no processo de autoconhecimento. \nA inauguração desta iniciativa será no dia 15 de janeiro\, pelas 18h00\, no espaço “Criativo”. \n  \nNota Biográfica \nRita Evangelho\, natural de Angra do Heroísmo\, é psicóloga clínica e artista plástica autodidata. Na pintura encontrou um método para chegar às imagens inconscientes e representar os sonhos. Participa em exposições coletivas e individuais desde 2015\, onde expõe a sua arte em diversos eventos de expressão artística. \n  \nFacebookTwitterGoogle+\n\n\n\n\n
URL:https://bparlsr.azores.gov.pt/destaque/exposicao-de-pintura-insight/
CATEGORIES:Biblioteca,Exposições
ATTACH;FMTTYPE=image/jpeg:https://bparlsr.azores.gov.pt/wp-content/uploads/2025/01/formatos_div_insight_sitioweb.jpg
END:VEVENT
END:VCALENDAR