BEGIN:VCALENDAR
VERSION:2.0
PRODID:-//Biblioteca Pública e Arquivo Regional Luís da Silva Ribeiro - ECPv4.9.10//NONSGML v1.0//EN
CALSCALE:GREGORIAN
METHOD:PUBLISH
X-WR-CALNAME:Biblioteca Pública e Arquivo Regional Luís da Silva Ribeiro
X-ORIGINAL-URL:https://bparlsr.azores.gov.pt
X-WR-CALDESC:Events for Biblioteca Pública e Arquivo Regional Luís da Silva Ribeiro
BEGIN:VTIMEZONE
TZID:Atlantic/Azores
BEGIN:DAYLIGHT
TZOFFSETFROM:-0100
TZOFFSETTO:+0000
TZNAME:+00
DTSTART:20200329T010000
END:DAYLIGHT
BEGIN:STANDARD
TZOFFSETFROM:+0000
TZOFFSETTO:-0100
TZNAME:-01
DTSTART:20201025T010000
END:STANDARD
END:VTIMEZONE
BEGIN:VEVENT
DTSTART;VALUE=DATE:20200127
DTEND;VALUE=DATE:20200401
DTSTAMP:20260425T214244
CREATED:20200127T122523Z
LAST-MODIFIED:20200210T165719Z
UID:3697-1580083200-1585699199@bparlsr.azores.gov.pt
SUMMARY:Exposição – Marcador de eventos
DESCRIPTION:Exposição – Marcador de eventos\nO desafio de uma oferta cultural rica e diversificada\, de modo a conseguir alcançar diferentes públicos\, foi traçado pelas diferentes secções da Biblioteca. Esta exposição ilustra alguns dos eventos organizados no decorrer do passado ano.\nFacebookTwitterGoogle+\n\n\n\n\n
URL:https://bparlsr.azores.gov.pt/destaque/exposicao-marcador-de-eventos/
CATEGORIES:Biblioteca,Exposições
ATTACH;FMTTYPE=image/jpeg:https://bparlsr.azores.gov.pt/wp-content/uploads/2020/01/Sítio-web-e-TV-1-1.jpg
END:VEVENT
END:VCALENDAR