BEGIN:VCALENDAR
VERSION:2.0
PRODID:-//Biblioteca Pública e Arquivo Regional Luís da Silva Ribeiro - ECPv4.9.10//NONSGML v1.0//EN
CALSCALE:GREGORIAN
METHOD:PUBLISH
X-WR-CALNAME:Biblioteca Pública e Arquivo Regional Luís da Silva Ribeiro
X-ORIGINAL-URL:https://bparlsr.azores.gov.pt
X-WR-CALDESC:Events for Biblioteca Pública e Arquivo Regional Luís da Silva Ribeiro
BEGIN:VTIMEZONE
TZID:Atlantic/Azores
BEGIN:DAYLIGHT
TZOFFSETFROM:-0100
TZOFFSETTO:+0000
TZNAME:+00
DTSTART:20210328T010000
END:DAYLIGHT
BEGIN:STANDARD
TZOFFSETFROM:+0000
TZOFFSETTO:-0100
TZNAME:-01
DTSTART:20211031T010000
END:STANDARD
END:VTIMEZONE
BEGIN:VEVENT
DTSTART;VALUE=DATE:20210628
DTEND;VALUE=DATE:20210717
DTSTAMP:20260420T002205
CREATED:20210622T185734Z
LAST-MODIFIED:20210622T185742Z
UID:6112-1624838400-1626479999@bparlsr.azores.gov.pt
SUMMARY:Fotografa & Partilha
DESCRIPTION:A Biblioteca Pública e Arquivo Regional Luís da Silva Ribeiro lança o passatempo “Fotografa & Partilha”\, dirigido aos seus seguidores das redes sociais Facebook e Instagram\, no próximo dia 28 de junho\, e no qual poderão participar até ao dia 16 de julho. \nPara esta iniciativa existirão duas formas de participar e\, por isso\, serão dois os vencedores. \nPara a página no Facebook da BPARLSR\, os interessados terão que seguir os passos: \n1 – Deixar um gosto na página; \n2 – Comentar a publicação desta iniciativa com uma fotografia\, da sua autoria\, com o seu livro de eleição ou o que está a ler no momento; \n3 – Partilhar no seu mural a publicação da BPARLSR; \nO vencedor será quem obtiver mais “gostos”\, até às 16h00 do dia 16 de julho\, no comentário que fez com a fotografia. \nPara a página no Instagram da BPARLSR\, os interessados terão que seguir os passos: \n1 – Seguir a página; \n2 – Identificar três amigos nos comentários da publicação desta iniciativa; \n3 – Partilhar uma fotografia\, da sua autoria\, com o seu livro de eleição ou o que está a ler no momento\, nas suas stories\, identificando a página da BPARLSR. \nO vencedor será escolhido através de sorteio\, podendo participar até às 16h00 do dia 16 de julho. \nOs participantes podem comentar ou partilhar as vezes que desejarem\, desde que seguindo todas as regras. Este passatempo é aberto aos residentes de todas as ilhas dos Açores e os dois premiados irão receber um livro\, um marcador e uma caneca personalizada. \n  \n  \nA Direção Regional da Cultura informa que este e outros eventos estão disponíveis para consulta na Agenda Cultural do Portal CulturAçores\, no seguinte endereço: \nwww.culturacores.gov.pt \nFacebookTwitterGoogle+\n\n\n\n\n
URL:https://bparlsr.azores.gov.pt/destaque/fotografa-partilha/
CATEGORIES:Biblioteca
ATTACH;FMTTYPE=image/jpeg:https://bparlsr.azores.gov.pt/wp-content/uploads/2021/06/2_FotografaPartilha_sitioweb.jpg
END:VEVENT
END:VCALENDAR