BEGIN:VCALENDAR
VERSION:2.0
PRODID:-//Biblioteca Pública e Arquivo Regional Luís da Silva Ribeiro - ECPv4.9.10//NONSGML v1.0//EN
CALSCALE:GREGORIAN
METHOD:PUBLISH
X-WR-CALNAME:Biblioteca Pública e Arquivo Regional Luís da Silva Ribeiro
X-ORIGINAL-URL:https://bparlsr.azores.gov.pt
X-WR-CALDESC:Events for Biblioteca Pública e Arquivo Regional Luís da Silva Ribeiro
BEGIN:VTIMEZONE
TZID:Atlantic/Azores
BEGIN:DAYLIGHT
TZOFFSETFROM:-0100
TZOFFSETTO:+0000
TZNAME:+00
DTSTART:20190331T010000
END:DAYLIGHT
BEGIN:STANDARD
TZOFFSETFROM:+0000
TZOFFSETTO:-0100
TZNAME:-01
DTSTART:20191027T010000
END:STANDARD
END:VTIMEZONE
BEGIN:VEVENT
DTSTART;TZID=Atlantic/Azores:20191031T213000
DTEND;TZID=Atlantic/Azores:20191031T230000
DTSTAMP:20260421T052831
CREATED:20191023T140626Z
LAST-MODIFIED:20191023T140626Z
UID:3507-1572557400-1572562800@bparlsr.azores.gov.pt
SUMMARY:Histórias de Arrepiar
DESCRIPTION:“Histórias de Arrepiar”\nData: 31 de outubro\nHora: 21:30\nLocal: secção infantojuvenil\nDestinatários: idade superior a 12 anos\nA Biblioteca Pública e Arquivo Regional Luís da Silva Ribeiro promove o espetáculo “Histórias de Arrepiar”\, do músico e narrador Fernando Guerreiro\, dia 31 de outubro às 21h30. Segundo o autor\, “as Histórias de Arrepiar são contos que nos fazem agarrar bem à cadeira e olhar para trás de vez em quando\, não vá ser o caso de que alguma criatura misteriosa nos esteja prestes a colocar as garras em cima”.\nO espetáculo destina-se a um público com idade superior a 12 anos e os lugares são limitados pelo que a Biblioteca recomenda pontualidade.\nEm diálogo com esta apresentação\, a Biblioteca expõe “Diabólicos Diabretes”\, na sequência da oficina de verão desenvolvida por Bianca Mendes e Alzira Mendes a partir do imaginário popular açoriano.\nFernando Guerreiro é escritor\, músico e narrador. Desde 2010 iniciou o projeto de promoção e mediação da leitura “Micro Contos” – narrativas breves que contam histórias plenas de humor\, amor e poesia\, editadas em 2015 e 2018 (Micro Contos de Amor\, Micro Contos de Morte\, Micro Contos de Estimação e Micro Contos Sazonais). Desde 2016 que frequenta escolas e festivais de literatura onde mostra como a microficção é uma excelente ferramenta para desbloquear a escrita de histórias.\nSinopse do espetáculo “Histórias de Arrepiar”\nQuando a noite cai\, vêm as criaturas das trevas para levarem com elas os mais incautos. Aparecem bruxas nas encruzilhadas\, os lobisomens uivam à lua e os demónios dançam nos telhados. Nas noites de maior terror\, a única forma de escapar é ouvir Histórias de Arrepiar e aprender os truques desses seres maléficos para lhes conseguirmos fazer frente.\nTragam os vossos amuletos e venham bem acompanhados para ouvir as Histórias de Arrepiar contadas por Fernando Guerreiro.\nFacebookTwitterGoogle+\n\n\n\n\n
URL:https://bparlsr.azores.gov.pt/destaque/historias-de-arrepiar/
CATEGORIES:Biblioteca Infantojuvenil
ATTACH;FMTTYPE=image/jpeg:https://bparlsr.azores.gov.pt/wp-content/uploads/2019/10/Sítio-web-e-TV-9.jpg
END:VEVENT
END:VCALENDAR