BEGIN:VCALENDAR
VERSION:2.0
PRODID:-//Biblioteca Pública e Arquivo Regional Luís da Silva Ribeiro - ECPv4.9.10//NONSGML v1.0//EN
CALSCALE:GREGORIAN
METHOD:PUBLISH
X-WR-CALNAME:Biblioteca Pública e Arquivo Regional Luís da Silva Ribeiro
X-ORIGINAL-URL:https://bparlsr.azores.gov.pt
X-WR-CALDESC:Events for Biblioteca Pública e Arquivo Regional Luís da Silva Ribeiro
BEGIN:VTIMEZONE
TZID:Atlantic/Azores
BEGIN:DAYLIGHT
TZOFFSETFROM:-0100
TZOFFSETTO:+0000
TZNAME:+00
DTSTART:20200329T010000
END:DAYLIGHT
BEGIN:STANDARD
TZOFFSETFROM:+0000
TZOFFSETTO:-0100
TZNAME:-01
DTSTART:20201025T010000
END:STANDARD
END:VTIMEZONE
BEGIN:VEVENT
DTSTART;TZID=Atlantic/Azores:20200307T160000
DTEND;TZID=Atlantic/Azores:20200307T170000
DTSTAMP:20260420T105407
CREATED:20200224T122901Z
LAST-MODIFIED:20200224T122901Z
UID:3754-1583596800-1583600400@bparlsr.azores.gov.pt
SUMMARY:Hora do Conto
DESCRIPTION:Hora do Conto com Ana Caramez\nData: 7 de março\nHora: 16:00\nLocal: Biblioteca Pública e Arquivo Regional Luís da Silva Ribeiro\nDestinatários: População escolar e público em geral\nA Biblioteca Pública e Arquivo Regional Luís da Silva Ribeiro\, numa parceria com a Biblioteca da Escola Básica Integrada de Angra do Heroísmo\, recebe a escritora Ana Caramez\, no dia 7 de março às 16h00\, na seção Infantojuvenil.\nCom o projeto “Histórias da Menina Catita\, uma maneira diferente de ensinar a História de Portugal”\, a escritora irá dinamizar uma sessão de conto que se destina a toda a comunidade\, embora de modo particular às crianças do 4.º ano\, 2.º ciclo e 3.º ciclo.\nAna Caramez\, licenciada em História\, variante de Arqueologia pela Faculdade de Letras da Universidade do Porto\, iniciou o percurso profissional na área da Arqueologia\, mas desde 1997 dedicou-se\, por exclusivo\, ao ensino da História como professora do terceiro ciclo e secundário.\nFacebookTwitterGoogle+\n\n\n\n\n
URL:https://bparlsr.azores.gov.pt/destaque/hora-do-conto-2/
CATEGORIES:Biblioteca Infantojuvenil
ATTACH;FMTTYPE=image/jpeg:https://bparlsr.azores.gov.pt/wp-content/uploads/2020/02/Sitioweb-3.jpg
END:VEVENT
END:VCALENDAR