BEGIN:VCALENDAR
VERSION:2.0
PRODID:-//Biblioteca Pública e Arquivo Regional Luís da Silva Ribeiro - ECPv4.9.10//NONSGML v1.0//EN
CALSCALE:GREGORIAN
METHOD:PUBLISH
X-WR-CALNAME:Biblioteca Pública e Arquivo Regional Luís da Silva Ribeiro
X-ORIGINAL-URL:https://bparlsr.azores.gov.pt
X-WR-CALDESC:Events for Biblioteca Pública e Arquivo Regional Luís da Silva Ribeiro
BEGIN:VTIMEZONE
TZID:Atlantic/Azores
BEGIN:DAYLIGHT
TZOFFSETFROM:-0100
TZOFFSETTO:+0000
TZNAME:+00
DTSTART:20190331T010000
END:DAYLIGHT
BEGIN:STANDARD
TZOFFSETFROM:+0000
TZOFFSETTO:-0100
TZNAME:-01
DTSTART:20191027T010000
END:STANDARD
END:VTIMEZONE
BEGIN:VEVENT
DTSTART;TZID=Atlantic/Azores:20191207T160000
DTEND;TZID=Atlantic/Azores:20191207T173000
DTSTAMP:20260426T023246
CREATED:20191128T110659Z
LAST-MODIFIED:20191128T110659Z
UID:3600-1575734400-1575739800@bparlsr.azores.gov.pt
SUMMARY:III Encontro de Contistas
DESCRIPTION:“III Encontro de Contistas”\nData: 7 de dezembro\nHora: 16:00\nLocal: Biblioteca Pública e Arquivo Regional Luís da Silva Ribeiro\nPúblico-alvo: Crianças e suas famílias\nA Biblioteca Pública e Arquivo Regional Luís da Silva Ribeiro convida toda a comunidade para o “III Encontro de Contistas”\, no dia 7 de dezembro. Este ano o projeto intergeracional desenvolveu-se por meio das rubricas “Amigos de pano”\, em que um grupo de idosos reuniu periodicamente para construir materiais de apoio às oficinas de leitura\, e “Contadores de palmo e meio”\, conjunto de encontros com crianças contadoras de histórias.\nAssim\, às 16h00 terá início o evento\, que inclui mostra do material pedagógico produzido\, sessão de contos a cargo dos Contadores de palmo e meio e\, por fim\, a apresentação do espetáculo “Sebastião I e a ilha Terceira”\, com João Félix e Ricardo Ávila.\nFacebookTwitterGoogle+\n\n\n\n\n
URL:https://bparlsr.azores.gov.pt/destaque/iii-encontro-de-contistas/
CATEGORIES:Biblioteca Infantojuvenil
ATTACH;FMTTYPE=image/jpeg:https://bparlsr.azores.gov.pt/wp-content/uploads/2019/11/Sítio-web-e-TV-14.jpg
END:VEVENT
END:VCALENDAR