BEGIN:VCALENDAR
VERSION:2.0
PRODID:-//Biblioteca Pública e Arquivo Regional Luís da Silva Ribeiro - ECPv4.9.10//NONSGML v1.0//EN
CALSCALE:GREGORIAN
METHOD:PUBLISH
X-WR-CALNAME:Biblioteca Pública e Arquivo Regional Luís da Silva Ribeiro
X-ORIGINAL-URL:https://bparlsr.azores.gov.pt
X-WR-CALDESC:Events for Biblioteca Pública e Arquivo Regional Luís da Silva Ribeiro
BEGIN:VTIMEZONE
TZID:Atlantic/Azores
BEGIN:DAYLIGHT
TZOFFSETFROM:-0100
TZOFFSETTO:+0000
TZNAME:+00
DTSTART:20230326T010000
END:DAYLIGHT
BEGIN:STANDARD
TZOFFSETFROM:+0000
TZOFFSETTO:-0100
TZNAME:-01
DTSTART:20231029T010000
END:STANDARD
END:VTIMEZONE
BEGIN:VEVENT
DTSTART;VALUE=DATE:20230206
DTEND;VALUE=DATE:20230301
DTSTAMP:20260425T030101
CREATED:20230130T181119Z
LAST-MODIFIED:20230130T181119Z
UID:10276-1675641600-1677628799@bparlsr.azores.gov.pt
SUMMARY:Mostra | Língua Materna
DESCRIPTION:Durante o mês de fevereiro\, a Biblioteca Pública e Arquivo Regional Luís da Silva Ribeiro associa-se às comemorações do “Dia Internacional da Língua Materna” com uma mostra bibliográfica na qual se destaca a língua portuguesa como um dos idiomas mais falados no mundo. \nNos últimos anos verificou-se um aumento de pessoas que falam português\, mais de 250 milhões de falantes. Na diáspora o português assume-se como a língua materna de toda a 1.ª geração de emigrantes\, assegurando a ligação afetiva entre a comunidade de origem e as novas gerações. \nO tema explora ainda a importância da sua preservação no contexto do património cultural linguístico. \nVenha conhecer esta mostra na sala de leitura e empréstimo domiciliário da BPARLSR. \n  \nFacebookTwitterGoogle+\n\n\n\n\n
URL:https://bparlsr.azores.gov.pt/destaque/mostra-lingua-materna/
CATEGORIES:Biblioteca
ATTACH;FMTTYPE=image/jpeg:https://bparlsr.azores.gov.pt/wp-content/uploads/2023/01/3_Sítio_web-2.jpg
END:VEVENT
END:VCALENDAR