BEGIN:VCALENDAR
VERSION:2.0
PRODID:-//Biblioteca Pública e Arquivo Regional Luís da Silva Ribeiro - ECPv4.9.10//NONSGML v1.0//EN
CALSCALE:GREGORIAN
METHOD:PUBLISH
X-WR-CALNAME:Biblioteca Pública e Arquivo Regional Luís da Silva Ribeiro
X-ORIGINAL-URL:https://bparlsr.azores.gov.pt
X-WR-CALDESC:Events for Biblioteca Pública e Arquivo Regional Luís da Silva Ribeiro
BEGIN:VTIMEZONE
TZID:Atlantic/Azores
BEGIN:DAYLIGHT
TZOFFSETFROM:-0100
TZOFFSETTO:+0000
TZNAME:+00
DTSTART:20240331T010000
END:DAYLIGHT
BEGIN:STANDARD
TZOFFSETFROM:+0000
TZOFFSETTO:-0100
TZNAME:-01
DTSTART:20241027T010000
END:STANDARD
END:VTIMEZONE
BEGIN:VEVENT
DTSTART;VALUE=DATE:20240508
DTEND;VALUE=DATE:20240601
DTSTAMP:20260425T232753
CREATED:20240507T095142Z
LAST-MODIFIED:20240507T095142Z
UID:11399-1715126400-1717199999@bparlsr.azores.gov.pt
SUMMARY:Mostra | Literatura\, Explorando Géneros
DESCRIPTION:A Biblioteca Pública e Arquivo Regional Luís da Silva Ribeiro promove a mostra mensal “Literatura\, explorando géneros”. Esta iniciativa tem o intuito de divulgar a Coleção de Livre Acesso da Sala de Leitura e de Empréstimo Domiciliário de Adultos e pretende dar a conhecer 12 géneros literários ao longo de todo o ano. \nO compromisso que a instituição tem em fomentar a diversidade cultural e em estimular o pensamento crítico\, leva-a a incentivar o leitor a conhecer diversos géneros literários\, o que permite ao mesmo aprimorar a sua expressão linguística\, fazendo uma leitura mais diversificada e gratificante e explorando diferentes perspetivas do mundo. \nA mostra de maio contempla espécies do género ficção científica e estará patente ao público entre os dias 2 e 31 de maio. Em qualquer um dos espaços da Biblioteca poderá consultar\, usufruir da leitura e requisitar obras como A guerra dos mundos\, de H.G. Wells\, O problema dos três corpos\, de Liu Cixin ou Filhos de Duna\, de Frank Herbert\, e outras que podem ser do seu interesse. \n  \nFacebookTwitterGoogle+\n\n\n\n\n
URL:https://bparlsr.azores.gov.pt/destaque/mostra-literatura-explorando-generos-3/
CATEGORIES:Biblioteca
ATTACH;FMTTYPE=image/jpeg:https://bparlsr.azores.gov.pt/wp-content/uploads/2024/05/formatos_div_generos_literarios_maio_sitioweb.jpg
END:VEVENT
END:VCALENDAR