BEGIN:VCALENDAR
VERSION:2.0
PRODID:-//Biblioteca Pública e Arquivo Regional Luís da Silva Ribeiro - ECPv4.9.10//NONSGML v1.0//EN
CALSCALE:GREGORIAN
METHOD:PUBLISH
X-WR-CALNAME:Biblioteca Pública e Arquivo Regional Luís da Silva Ribeiro
X-ORIGINAL-URL:https://bparlsr.azores.gov.pt
X-WR-CALDESC:Events for Biblioteca Pública e Arquivo Regional Luís da Silva Ribeiro
BEGIN:VTIMEZONE
TZID:Atlantic/Azores
BEGIN:DAYLIGHT
TZOFFSETFROM:-0100
TZOFFSETTO:+0000
TZNAME:+00
DTSTART:20240331T010000
END:DAYLIGHT
BEGIN:STANDARD
TZOFFSETFROM:+0000
TZOFFSETTO:-0100
TZNAME:-01
DTSTART:20241027T010000
END:STANDARD
END:VTIMEZONE
BEGIN:VEVENT
DTSTART;VALUE=DATE:20240802
DTEND;VALUE=DATE:20240831
DTSTAMP:20260425T212355
CREATED:20240729T105420Z
LAST-MODIFIED:20240729T105420Z
UID:11545-1722556800-1725062399@bparlsr.azores.gov.pt
SUMMARY:Mostra | Literatura\, Explorando Géneros
DESCRIPTION:A Biblioteca Pública e Arquivo Regional Luís da Silva Ribeiro promove a mostra mensal 𝑳𝒊𝒕𝒆𝒓𝒂𝒕𝒖𝒓𝒂\, 𝑬𝒙𝒑𝒍𝒐𝒓𝒂𝒏𝒅𝒐 𝑮𝒆́𝒏𝒆𝒓𝒐𝒔. Esta iniciativa tem o intuito de divulgar a Coleção de Livre Acesso da Sala de Leitura e de Empréstimo Domiciliário de Adultos. \nA mostra de agosto contempla algumas das espécies enquadradas no género de ficção curta\, 𝙃𝙞𝙨𝙩𝙤́𝙧𝙞𝙖𝙨 𝘾𝙪𝙧𝙩𝙖𝙨 𝙚 𝙉𝙤𝙫𝙚𝙡𝙖𝙨\, patente ao público entre os dias 2 e 30 de agosto. \n  \nDe uma seleção criteriosa destacamos as seguintes obras: Gigi\, da autora francesa Sidonie-Gabrielle Colette\, traduzida pelo Nobel da Literatura\, José Saramago\, da literatura russa os grandes escritores Ivan Turguéniev\, com a novela Diário de um homem e Fiodór Dostoiévski com A Submissa e outras histórias\, uma obra composta por três histórias publicadas entre 1862 e 1867. Sugerimos ainda a leitura da novela de João de Melo\, A Divina Miséria\, constituída por uma trilogia de contos\, um bom exemplo de escrita perspetivada enquanto objeto estético. \nFacebookTwitterGoogle+\n\n\n\n\n
URL:https://bparlsr.azores.gov.pt/destaque/mostra-literatura-explorando-generos-4/
CATEGORIES:Biblioteca
ATTACH;FMTTYPE=image/jpeg:https://bparlsr.azores.gov.pt/wp-content/uploads/2024/07/formatos_div_generos_literarios_ago_sitioweb.jpg
END:VEVENT
END:VCALENDAR