BEGIN:VCALENDAR
VERSION:2.0
PRODID:-//Biblioteca Pública e Arquivo Regional Luís da Silva Ribeiro - ECPv4.9.10//NONSGML v1.0//EN
CALSCALE:GREGORIAN
METHOD:PUBLISH
X-WR-CALNAME:Biblioteca Pública e Arquivo Regional Luís da Silva Ribeiro
X-ORIGINAL-URL:https://bparlsr.azores.gov.pt
X-WR-CALDESC:Events for Biblioteca Pública e Arquivo Regional Luís da Silva Ribeiro
BEGIN:VTIMEZONE
TZID:Atlantic/Azores
BEGIN:DAYLIGHT
TZOFFSETFROM:-0100
TZOFFSETTO:+0000
TZNAME:+00
DTSTART:20180325T010000
END:DAYLIGHT
BEGIN:STANDARD
TZOFFSETFROM:+0000
TZOFFSETTO:-0100
TZNAME:-01
DTSTART:20181028T010000
END:STANDARD
END:VTIMEZONE
BEGIN:VEVENT
DTSTART;TZID=Atlantic/Azores:20180614T080000
DTEND;TZID=Atlantic/Azores:20180614T170000
DTSTAMP:20260423T224020
CREATED:20180614T175727Z
LAST-MODIFIED:20180614T175727Z
UID:2554-1528963200-1528995600@bparlsr.azores.gov.pt
SUMMARY:Mostra “Mutatis Mutandis”
DESCRIPTION:Oficina “Cortar\, colar e reaproveitar” \nData: 30 de julho a 3 de agosto\nHora: das 14h00 às 15h30\nLocal: Biblioteca Pública e Arquivo Regional Luís da Silva Ribeiro\nDestinatários: crianças dos 6 aos 9 anos\nInscrição Prévia: mediante preenchimento de ficha de inscrição \nA Biblioteca Pública e Arquivo Regional Luís da Silva Ribeiro\, no âmbito da mostra bibliográfica “Mutatis mutandis”\, dinamiza a oficina “Cortar\, colar e reaproveitar” inspirada no livro Arte para descobrir\, pintar e imaginar. Nesta oficina as crianças irão criar imagens reutilizando materiais diversos como tecidos\, aparas de papel colorido\, bijuteria\, entre outros objetos que já não usamos. Exercitar a criatividade e proteger o ambiente\, será o nosso lema deste verão! \nFacebookTwitterGoogle+\n\n\n\n\n
URL:https://bparlsr.azores.gov.pt/destaque/mostra-mutatis-mutandis-5/
CATEGORIES:Biblioteca Infantojuvenil
ATTACH;FMTTYPE=image/jpeg:https://bparlsr.azores.gov.pt/wp-content/uploads/2018/06/Sítio-web-e-TV-9.jpg
END:VEVENT
END:VCALENDAR