BEGIN:VCALENDAR
VERSION:2.0
PRODID:-//Biblioteca Pública e Arquivo Regional Luís da Silva Ribeiro - ECPv4.9.10//NONSGML v1.0//EN
CALSCALE:GREGORIAN
METHOD:PUBLISH
X-WR-CALNAME:Biblioteca Pública e Arquivo Regional Luís da Silva Ribeiro
X-ORIGINAL-URL:https://bparlsr.azores.gov.pt
X-WR-CALDESC:Events for Biblioteca Pública e Arquivo Regional Luís da Silva Ribeiro
BEGIN:VTIMEZONE
TZID:Atlantic/Azores
BEGIN:DAYLIGHT
TZOFFSETFROM:-0100
TZOFFSETTO:+0000
TZNAME:+00
DTSTART:20190331T010000
END:DAYLIGHT
BEGIN:STANDARD
TZOFFSETFROM:+0000
TZOFFSETTO:-0100
TZNAME:-01
DTSTART:20191027T010000
END:STANDARD
END:VTIMEZONE
BEGIN:VEVENT
DTSTART;TZID=Atlantic/Azores:20190125T180000
DTEND;TZID=Atlantic/Azores:20190125T190000
DTSTAMP:20260425T210334
CREATED:20190118T135227Z
LAST-MODIFIED:20190118T135227Z
UID:3035-1548439200-1548442800@bparlsr.azores.gov.pt
SUMMARY:Música na Conversa\, com António Bulcão
DESCRIPTION:Música na Conversa\, com António Bulcão\nData: 25 de janeiro\nHora: 18:00\nLocal: Biblioteca Pública e Arquivo Regional Luís da Silva Ribeiro\nPúblico-alvo: público em geral\nA Biblioteca Pública e Arquivo Regional Luís da Silva Ribeiro dá início a uma outra vertente da “Conversa com…”\, que intitulou “Música na Conversa”\, e que terá cantautores como convidados. Com esta atividade pretende-se manter uma interação entre o convidado e o público\, de forma a conhecer o artista e a sua obra\, complementando-se esta com a audição de alguns temas ou excertos musicais. O primeiro destes convidados será António Bulcão.\nAntónio Bulcão\, 59 anos\, fez parte dos grupos “Toques” e “Cantinho da Terceira”. Gravou dois cd\, “Não nos falta mar” (2000) e “Fronteira” (2016\, com Mário Laginha).\nFacebookTwitterGoogle+\n\n\n\n\n
URL:https://bparlsr.azores.gov.pt/destaque/musica-na-conversa-com-antonio-bulcao/
CATEGORIES:Biblioteca
ATTACH;FMTTYPE=image/jpeg:https://bparlsr.azores.gov.pt/wp-content/uploads/2019/01/Sítio-web-e-TV-8.jpg
END:VEVENT
END:VCALENDAR