BEGIN:VCALENDAR
VERSION:2.0
PRODID:-//Biblioteca Pública e Arquivo Regional Luís da Silva Ribeiro - ECPv4.9.10//NONSGML v1.0//EN
CALSCALE:GREGORIAN
METHOD:PUBLISH
X-WR-CALNAME:Biblioteca Pública e Arquivo Regional Luís da Silva Ribeiro
X-ORIGINAL-URL:https://bparlsr.azores.gov.pt
X-WR-CALDESC:Events for Biblioteca Pública e Arquivo Regional Luís da Silva Ribeiro
BEGIN:VTIMEZONE
TZID:Atlantic/Azores
BEGIN:DAYLIGHT
TZOFFSETFROM:-0100
TZOFFSETTO:+0000
TZNAME:+00
DTSTART:20190331T010000
END:DAYLIGHT
BEGIN:STANDARD
TZOFFSETFROM:+0000
TZOFFSETTO:-0100
TZNAME:-01
DTSTART:20191027T010000
END:STANDARD
END:VTIMEZONE
BEGIN:VEVENT
DTSTART;TZID=Atlantic/Azores:20191206T180000
DTEND;TZID=Atlantic/Azores:20191206T193000
DTSTAMP:20260422T041835
CREATED:20191202T114648Z
LAST-MODIFIED:20191202T211739Z
UID:3605-1575655200-1575660600@bparlsr.azores.gov.pt
SUMMARY:Música na Conversa com Bruno Walter Ferreira
DESCRIPTION:“Música na Conversa”\ncom Bruno Walter Ferreira\nData: 6 de dezembro\nHora: 18h00\nLocal: Biblioteca Pública e Arquivo Regional Luís da Silva Ribeiro\nPúblico-alvo: Público em geral\nA Biblioteca Pública e Arquivo Regional Luís da Silva Ribeiro promove\, no dia 6 de dezembro às 18:00\, “Música na Conversa” com Bruno Walter Ferreira.\nEsta iniciativa\, que aconteceu pela primeira vez em janeiro com António Bulcão\, pretende criar uma interação entre o convidado e o público\, que desta forma poderá conhecer melhor o artista e a sua obra\, e ouvir alguns dos seus temas.\nBruno Walter G. Ferreira é médico de profissão e músico amador.\nÉ na composição e interpretação de canções de matriz popular urbana que manifesta a sua atividade. É autor de dois álbuns de originais\, “Cantigas de Várias Cores” (2004) e “Maquillage” (2009). Em 2010 fundou o grupo musical BWF- Bruno Walter & Friends\, com o qual lançou o Cd “BWF ao Vivo no CCCAH” (2014) e com quem tem pisado vários palcos nos Açores e em Portugal continental.\nFacebookTwitterGoogle+\n\n\n\n\n
URL:https://bparlsr.azores.gov.pt/destaque/musica-na-conversa/
CATEGORIES:Biblioteca
ATTACH;FMTTYPE=image/jpeg:https://bparlsr.azores.gov.pt/wp-content/uploads/2019/12/Sítio-web-e-TV-1.jpg
END:VEVENT
END:VCALENDAR