BEGIN:VCALENDAR
VERSION:2.0
PRODID:-//Biblioteca Pública e Arquivo Regional Luís da Silva Ribeiro - ECPv4.9.10//NONSGML v1.0//EN
CALSCALE:GREGORIAN
METHOD:PUBLISH
X-WR-CALNAME:Biblioteca Pública e Arquivo Regional Luís da Silva Ribeiro
X-ORIGINAL-URL:https://bparlsr.azores.gov.pt
X-WR-CALDESC:Events for Biblioteca Pública e Arquivo Regional Luís da Silva Ribeiro
BEGIN:VTIMEZONE
TZID:Atlantic/Azores
BEGIN:DAYLIGHT
TZOFFSETFROM:-0100
TZOFFSETTO:+0000
TZNAME:+00
DTSTART:20180325T010000
END:DAYLIGHT
BEGIN:STANDARD
TZOFFSETFROM:+0000
TZOFFSETTO:-0100
TZNAME:-01
DTSTART:20181028T010000
END:STANDARD
END:VTIMEZONE
BEGIN:VEVENT
DTSTART;TZID=Atlantic/Azores:20181123T210000
DTEND;TZID=Atlantic/Azores:20181123T230000
DTSTAMP:20260425T234149
CREATED:20181120T144743Z
LAST-MODIFIED:20181120T144833Z
UID:2919-1543006800-1543014000@bparlsr.azores.gov.pt
SUMMARY:Noite de Cinema na Biblioteca
DESCRIPTION:Noite de Cinema na Biblioteca\nData: 23 de novembro\nHora: 21:00\nLocal: Biblioteca Pública e Arquivo Regional Luís da Silva Ribeiro\nPúblico-alvo: Público em geral\nA Biblioteca Pública e Arquivo Regional Luís da Silva Ribeiro apresenta o filme Wonder – Encantador\, realizado por Stephen Chbosky\, cujo tema é retirado de um romance de R. J. Palacio.\n“A história de August Pullman\, um menino que nasceu com uma deformidade facial e\, por esse motivo\, sempre foi muito protegido e isolado da escola e das crianças da sua idade até ao dia em que Auggie se torna o mais improvável dos heróis ao entrar pela primeira vez\, no 5º ano de escolaridade\, numa escola pública…e sente-se apavorado! Assim como a sua família\, os seus novos colegas de turma e toda a comunidade enfrentam a capacidade do poder da compaixão\, da aceitação e da não-discriminação. O seu maior sonho\, é que o aceitem. Nesta extraordinária jornada\, Auggie vai tentar conseguir com que todos se unam pela mesma causa e provar que todas as crianças são únicas\, especiais e nasceram com um dom encantador de se destacar\, de amar e ser amados.”\nFacebookTwitterGoogle+\n\n\n\n\n
URL:https://bparlsr.azores.gov.pt/destaque/noite-de-cinema-na-biblioteca/
CATEGORIES:Biblioteca
ATTACH;FMTTYPE=image/jpeg:https://bparlsr.azores.gov.pt/wp-content/uploads/2018/11/Sítio-web-e-TV-7.jpg
END:VEVENT
END:VCALENDAR