BEGIN:VCALENDAR
VERSION:2.0
PRODID:-//Biblioteca Pública e Arquivo Regional Luís da Silva Ribeiro - ECPv4.9.10//NONSGML v1.0//EN
CALSCALE:GREGORIAN
METHOD:PUBLISH
X-WR-CALNAME:Biblioteca Pública e Arquivo Regional Luís da Silva Ribeiro
X-ORIGINAL-URL:https://bparlsr.azores.gov.pt
X-WR-CALDESC:Events for Biblioteca Pública e Arquivo Regional Luís da Silva Ribeiro
BEGIN:VTIMEZONE
TZID:Atlantic/Azores
BEGIN:DAYLIGHT
TZOFFSETFROM:-0100
TZOFFSETTO:+0000
TZNAME:+00
DTSTART:20190331T010000
END:DAYLIGHT
BEGIN:STANDARD
TZOFFSETFROM:+0000
TZOFFSETTO:-0100
TZNAME:-01
DTSTART:20191027T010000
END:STANDARD
END:VTIMEZONE
BEGIN:VEVENT
DTSTART;VALUE=DATE:20190424
DTEND;VALUE=DATE:20190509
DTSTAMP:20260425T184846
CREATED:20190418T122926Z
LAST-MODIFIED:20190418T122926Z
UID:3225-1556064000-1557359999@bparlsr.azores.gov.pt
SUMMARY:O antifascismo e o 25 de abril
DESCRIPTION:O antifascismo e o 25 de abril\nData: de 24 de abril a 8 de maio\nHora: Horário de funcionamento da Biblioteca\nLocal: Biblioteca Pública e Arquivo Regional Luís da Silva Ribeiro\nPúblico-alvo: Comunidade e público em geral\nA Biblioteca Pública e Arquivo Regional Luís da Silva Ribeiro expõe uma mostra da coleção “O antifascismo e o 25 de abril”\, de forma a assinalar a comemoração do “Dia da Liberdade” e o “Dia Mundial da Liberdade de Imprensa”.\nA mostra documental pretende levar ao conhecimento da comunidade e público em geral o acervo da instituição\, nomeadamente as existências da secção de arquivo e biblioteca\, que neste caso se complementam\, pelo que serão expostos documentos\, periódicos e monografias\, sobre a Revolução de 25 de abril e publicações alvo de censura em Portugal e no Estrangeiro.\nFacebookTwitterGoogle+\n\n\n\n\n
URL:https://bparlsr.azores.gov.pt/destaque/o-antifascismo-e-o-25-de-abril/
CATEGORIES:Biblioteca,Exposições
ATTACH;FMTTYPE=image/jpeg:https://bparlsr.azores.gov.pt/wp-content/uploads/2019/04/Sítio-web-e-TV-6.jpg
END:VEVENT
END:VCALENDAR