BEGIN:VCALENDAR
VERSION:2.0
PRODID:-//Biblioteca Pública e Arquivo Regional Luís da Silva Ribeiro - ECPv4.9.10//NONSGML v1.0//EN
CALSCALE:GREGORIAN
METHOD:PUBLISH
X-WR-CALNAME:Biblioteca Pública e Arquivo Regional Luís da Silva Ribeiro
X-ORIGINAL-URL:https://bparlsr.azores.gov.pt
X-WR-CALDESC:Events for Biblioteca Pública e Arquivo Regional Luís da Silva Ribeiro
BEGIN:VTIMEZONE
TZID:Atlantic/Azores
BEGIN:DAYLIGHT
TZOFFSETFROM:-0100
TZOFFSETTO:+0000
TZNAME:+00
DTSTART:20180325T010000
END:DAYLIGHT
BEGIN:STANDARD
TZOFFSETFROM:+0000
TZOFFSETTO:-0100
TZNAME:-01
DTSTART:20181028T010000
END:STANDARD
END:VTIMEZONE
BEGIN:VEVENT
DTSTART;TZID=Atlantic/Azores:20181205T143000
DTEND;TZID=Atlantic/Azores:20181205T163000
DTSTAMP:20260424T172519
CREATED:20181203T163814Z
LAST-MODIFIED:20181203T163814Z
UID:2951-1544020200-1544027400@bparlsr.azores.gov.pt
SUMMARY:Oficina “Amigos de pano”
DESCRIPTION:Oficina “Amigos de pano”\nData: 5 de dezembro\nHora: das 14:30 às 16:30\nLocal: Biblioteca Pública e Arquivo regional Luís da Silva Ribeiro\nPúblico-alvo: Idosos\nSujeito a inscrição\nA Biblioteca Luís da Silva Ribeiro promove a oficina “Amigos de pano”\, destinada a pessoas idosas e\, em última instância\, à criança pequena que atravesse um período de conflito interior\, desde o mais trivial medo do escuro à perda de entes queridos\, entre tantas realidades a que urge dar resposta.\nNeste contexto\, o boneco  (que deve caber na palma da mão) atua no terreno fértil do pensamento mágico característico destas idades\, como confidente das preocupações infantis\, numa recriação de tradições ancestrais que recorriam a miniaturas do humano para responder a desafios de natureza psicossomática\, nomeadamente\, nas comunidades xamânicas sul-americanas\, o caso dos nascituros em que não acontecia em tempo útil o posicionamento correto da cabeça\, divulgado pelo antropólogo Levi Strauss que identifica um significativo paralelismo entre aquela prática e a psicanálise freudiana\, realçando o poder terapêutico do símbolo.\nOs bonecos resultantes deste workshop serão por fim expostos na Biblioteca\, com identificação do autor\, e oferecidos a quem os solicitar\, ficando essa pessoa responsável por enviar ao autor uma carta de agradecimento\, na pessoa da criança beneficiada.\nA cargo da formadora Alzira Mendes\, a oficina destina-se\, de modo particular\, a pessoas ligadas ao artesanato\, costureiras\, artistas plásticos\, sendo as inscrições limitadas e devendo a respetiva ficha ser solicitada através do mail ricardo.ne.avila@azores.gov.pt.\nFacebookTwitterGoogle+\n\n\n\n\n
URL:https://bparlsr.azores.gov.pt/destaque/oficina-amigos-de-pano/
CATEGORIES:Biblioteca Infantojuvenil
ATTACH;FMTTYPE=image/jpeg:https://bparlsr.azores.gov.pt/wp-content/uploads/2018/12/Sítio-web-e-TV.jpg
END:VEVENT
END:VCALENDAR