BEGIN:VCALENDAR
VERSION:2.0
PRODID:-//Biblioteca Pública e Arquivo Regional Luís da Silva Ribeiro - ECPv4.9.10//NONSGML v1.0//EN
CALSCALE:GREGORIAN
METHOD:PUBLISH
X-WR-CALNAME:Biblioteca Pública e Arquivo Regional Luís da Silva Ribeiro
X-ORIGINAL-URL:https://bparlsr.azores.gov.pt
X-WR-CALDESC:Events for Biblioteca Pública e Arquivo Regional Luís da Silva Ribeiro
BEGIN:VTIMEZONE
TZID:Atlantic/Azores
BEGIN:DAYLIGHT
TZOFFSETFROM:-0100
TZOFFSETTO:+0000
TZNAME:+00
DTSTART:20180325T010000
END:DAYLIGHT
BEGIN:STANDARD
TZOFFSETFROM:+0000
TZOFFSETTO:-0100
TZNAME:-01
DTSTART:20181028T010000
END:STANDARD
END:VTIMEZONE
BEGIN:VEVENT
DTSTART;TZID=Atlantic/Azores:20180524T100000
DTEND;TZID=Atlantic/Azores:20180524T110000
DTSTAMP:20260425T022208
CREATED:20180508T144756Z
LAST-MODIFIED:20180522T065802Z
UID:2413-1527156000-1527159600@bparlsr.azores.gov.pt
SUMMARY:Oficina “Como é que uma galinha…”
DESCRIPTION:Mostra “Por terra fora\, um bicho\, uma história”\nOficina “Como é que uma galinha…” \nData: 15 e 24 de maio\nHora: das 10h00 às 11h00\nLocal: Biblioteca Pública e Arquivo Regional Luís da Silva Ribeiro\nDestinatários: público escolar – crianças a partir dos 8 anos\nInscrição Prévia: através do contacto telefónico 295 401 000 ou nas instalações da Biblioteca \nA Biblioteca Pública e Arquivo Regional Luís da Silva Ribeiro\, no âmbito da mostra bibliográfica “Por terra fora\, um bicho\, uma história”\, dinamiza a oficina de criação artística “Como é que uma galinha…”. Nesta oficina\, as crianças descobrirão alguns mistérios sobre a vida da senhora galinha\, escolhida para guardar uma das coisas mais bonitas e perfeitas que há. O que será? Será a galinha um agente secreto? E trará dentro de si um segredo? Mas como pode uma galinha tonta\, que só esgravata e cacareja\, ter tantos mistérios\, como pode provocar tanta curiosidade? No final\, os participantes construirão a sua própria “agente secreta”! \nFacebookTwitterGoogle+\n\n\n\n\n
URL:https://bparlsr.azores.gov.pt/destaque/oficina-como-e-que-uma-galinha/
CATEGORIES:Biblioteca Infantojuvenil
ATTACH;FMTTYPE=image/jpeg:https://bparlsr.azores.gov.pt/wp-content/uploads/2018/05/Imagem-TV-2.jpg
END:VEVENT
END:VCALENDAR