BEGIN:VCALENDAR
VERSION:2.0
PRODID:-//Biblioteca Pública e Arquivo Regional Luís da Silva Ribeiro - ECPv4.9.10//NONSGML v1.0//EN
CALSCALE:GREGORIAN
METHOD:PUBLISH
X-WR-CALNAME:Biblioteca Pública e Arquivo Regional Luís da Silva Ribeiro
X-ORIGINAL-URL:https://bparlsr.azores.gov.pt
X-WR-CALDESC:Events for Biblioteca Pública e Arquivo Regional Luís da Silva Ribeiro
BEGIN:VTIMEZONE
TZID:Atlantic/Azores
BEGIN:DAYLIGHT
TZOFFSETFROM:-0100
TZOFFSETTO:+0000
TZNAME:+00
DTSTART:20250330T010000
END:DAYLIGHT
BEGIN:STANDARD
TZOFFSETFROM:+0000
TZOFFSETTO:-0100
TZNAME:-01
DTSTART:20251026T010000
END:STANDARD
END:VTIMEZONE
BEGIN:VEVENT
DTSTART;TZID=Atlantic/Azores:20251222T100000
DTEND;TZID=Atlantic/Azores:20251230T120000
DTSTAMP:20260420T124800
CREATED:20251128T170123Z
LAST-MODIFIED:20251128T170123Z
UID:12690-1766397600-1767096000@bparlsr.azores.gov.pt
SUMMARY:Oficina de Dedoches
DESCRIPTION:Se tens entre 5 e 9 anos\, vem divertir-te este Natal através da Oficina de Dedoches: pequenos fantoches de dedo\, em que modelas a cabeça e costuras a roupa em tecido. \nA oficina acontece na Biblioteca Pública e Arquivo Regional Luís da Silva Ribeiro\, na secção Infantojuvenil\, nos próximos dias 22\, 29 e 30 de dezembro\, das 10h00 às 12h00. \nInscreve-te através do link: https://forms.gle/sHPP4d9VStHnZRfNA \n  \nNOTA BIOGRÁFICA \n  \nCarolina Rocha \nCarolina Rocha\, natural da ilha Terceira\, nasceu em 1987. Atualmente é funcionária na Biblioteca Pública e Arquivo Regional Luís da Silva Ribeiro. Licenciada e mestre em Artes Plásticas pela Escola Superior de Artes e Design\, das Caldas da Rainha e pós-graduada em Livro Infantil\, pela Universidade Católica e em Ciências da Informação\, pela Universidade Aberta. Participa em exposições coletivas e individuais desde 2010. \nFacebookTwitterGoogle+\n\n\n\n\n
URL:https://bparlsr.azores.gov.pt/destaque/oficina-de-dedoches/
CATEGORIES:Biblioteca,Biblioteca Infantojuvenil
ATTACH;FMTTYPE=image/jpeg:https://bparlsr.azores.gov.pt/wp-content/uploads/2025/11/formatos_dedoches_sitioweb.jpg
END:VEVENT
END:VCALENDAR