BEGIN:VCALENDAR
VERSION:2.0
PRODID:-//Biblioteca Pública e Arquivo Regional Luís da Silva Ribeiro - ECPv4.9.10//NONSGML v1.0//EN
CALSCALE:GREGORIAN
METHOD:PUBLISH
X-WR-CALNAME:Biblioteca Pública e Arquivo Regional Luís da Silva Ribeiro
X-ORIGINAL-URL:https://bparlsr.azores.gov.pt
X-WR-CALDESC:Events for Biblioteca Pública e Arquivo Regional Luís da Silva Ribeiro
BEGIN:VTIMEZONE
TZID:Atlantic/Azores
BEGIN:DAYLIGHT
TZOFFSETFROM:-0100
TZOFFSETTO:+0000
TZNAME:+00
DTSTART:20230326T010000
END:DAYLIGHT
BEGIN:STANDARD
TZOFFSETFROM:+0000
TZOFFSETTO:-0100
TZNAME:-01
DTSTART:20231029T010000
END:STANDARD
END:VTIMEZONE
BEGIN:VEVENT
DTSTART;TZID=Atlantic/Azores:20231115T183000
DTEND;TZID=Atlantic/Azores:20231115T200000
DTSTAMP:20260425T184131
CREATED:20231107T102124Z
LAST-MODIFIED:20231109T174618Z
UID:11133-1700073000-1700078400@bparlsr.azores.gov.pt
SUMMARY:Oficina de Encadernação Japonesa
DESCRIPTION:A Biblioteca Pública e Arquivo Regional Luís da Ribeiro\, no contexto da Criativa’23\, convida todos os interessados a participarem na Oficina de Encadernação Japonesa\, com a formadora Carolina Rocha\, no dia 15 de novembro\, às 18h30\, para jovens entre os 9 e os 13 anos de idade. \nOs alunos aprenderão quais os materiais necessários\, e quais as técnicas básicas para este tipo de encadernação e\, no fim da oficina\, cada participante terá um livro totalmente encadernado por si. Terão ainda a oportunidade de conhecer a oficina de encadernação da Biblioteca e as respetivas ferramentas e materiais. \nPara mais informações\, dúvidas ou para se inscrever contacte-nos através do e-mail dinamizacao.bparlsr@azores.gov.pt ou do telefone 295 401 000. \nInscrições limitadas. \n  \nBiografia \nCarolina Rocha nasceu em 1987\, nos Açores. Atualmente é colaboradora na Biblioteca Pública e Arquivo Regional Luís da Silva Ribeiro. Licenciada e mestre em Artes Plásticas pela Escola Superior de Artes e Design\, das Caldas da Rainha e pós-graduada em Livro Infantil\, pela Universidade Católica e em Ciências da Informação\, pela Universidade Aberta. Participa em exposições coletivas e individuais desde 2010. \n  \nFacebookTwitterGoogle+\n\n\n\n\n
URL:https://bparlsr.azores.gov.pt/destaque/oficina-de-encadernacao-japonesa/
CATEGORIES:Biblioteca
ATTACH;FMTTYPE=image/jpeg:https://bparlsr.azores.gov.pt/wp-content/uploads/2023/11/1_sitioweb_carolina_rocha_esg-01_Easy-Resize.com_-1.jpg
END:VEVENT
END:VCALENDAR