BEGIN:VCALENDAR
VERSION:2.0
PRODID:-//Biblioteca Pública e Arquivo Regional Luís da Silva Ribeiro - ECPv4.9.10//NONSGML v1.0//EN
CALSCALE:GREGORIAN
METHOD:PUBLISH
X-WR-CALNAME:Biblioteca Pública e Arquivo Regional Luís da Silva Ribeiro
X-ORIGINAL-URL:https://bparlsr.azores.gov.pt
X-WR-CALDESC:Events for Biblioteca Pública e Arquivo Regional Luís da Silva Ribeiro
BEGIN:VTIMEZONE
TZID:Atlantic/Azores
BEGIN:DAYLIGHT
TZOFFSETFROM:-0100
TZOFFSETTO:+0000
TZNAME:+00
DTSTART:20190331T010000
END:DAYLIGHT
BEGIN:STANDARD
TZOFFSETFROM:+0000
TZOFFSETTO:-0100
TZNAME:-01
DTSTART:20191027T010000
END:STANDARD
END:VTIMEZONE
BEGIN:VEVENT
DTSTART;TZID=Atlantic/Azores:20190729T140000
DTEND;TZID=Atlantic/Azores:20190802T163000
DTSTAMP:20260424T204231
CREATED:20190717T100200Z
LAST-MODIFIED:20190717T100820Z
UID:3379-1564408800-1564763400@bparlsr.azores.gov.pt
SUMMARY:Oficina de Paleografia
DESCRIPTION:Oficina de Paleografia\n“Descobre os mistérios da escrita antiga”\nData: 29 de julho a 2 de agosto\nHora: 14:30 às 16:00\nLocal: Biblioteca Pública e Arquivo Regional Luís da Silva Ribeiro\nDestinatários: Crianças e jovens dos 8 aos 14 anos\nInscrição prévia\nA Biblioteca Pública e Arquivo Regional Luís da Silva Ribeiro promove\, dos dias 29 de julho a 2 de agosto\, das 14:30 às 16: 00\, a oficina de Paleografia “Descobre os mistérios da escrita antiga”\, destinada a crianças e jovens dos 8 aos 14 anos de idade.\nEsta atividade pretende levar ao conhecimento dos mais novos a importância que a Paleografia tem na vida de todos nós\, na nossa história\, na nossa cultura e identidade\, pois só através da leitura e transcrição dos textos de escrita antiga para a escrita atual que é possível ter acesso à informação contida nos manuscritos\, e assim\, entendermos melhor o nosso passado e as nossas origens.\nOs participantes terão oportunidade de conhecer\, através de jogos e dinâmicas variadas\, a evolução da escrita e os materiais e artefactos utilizados ao longo dos tempos.\nÉ uma atividade sujeita a inscrição prévia\, que deverá ser efetuada através do endereço: bpar.angra.info@azores.gov.pt ou nas instalações da Biblioteca\, até ao dia 25 de julho.\nFacebookTwitterGoogle+\n\n\n\n\n
URL:https://bparlsr.azores.gov.pt/destaque/oficina-de-paleografia/
CATEGORIES:Biblioteca Infantojuvenil
ATTACH;FMTTYPE=image/jpeg:https://bparlsr.azores.gov.pt/wp-content/uploads/2019/07/Sítio-web-1.jpg
END:VEVENT
END:VCALENDAR