BEGIN:VCALENDAR
VERSION:2.0
PRODID:-//Biblioteca Pública e Arquivo Regional Luís da Silva Ribeiro - ECPv4.9.10//NONSGML v1.0//EN
CALSCALE:GREGORIAN
METHOD:PUBLISH
X-WR-CALNAME:Biblioteca Pública e Arquivo Regional Luís da Silva Ribeiro
X-ORIGINAL-URL:https://bparlsr.azores.gov.pt
X-WR-CALDESC:Events for Biblioteca Pública e Arquivo Regional Luís da Silva Ribeiro
BEGIN:VTIMEZONE
TZID:Atlantic/Azores
BEGIN:DAYLIGHT
TZOFFSETFROM:-0100
TZOFFSETTO:+0000
TZNAME:+00
DTSTART:20180325T010000
END:DAYLIGHT
BEGIN:STANDARD
TZOFFSETFROM:+0000
TZOFFSETTO:-0100
TZNAME:-01
DTSTART:20181028T010000
END:STANDARD
END:VTIMEZONE
BEGIN:VEVENT
DTSTART;TZID=Atlantic/Azores:20180310T090000
DTEND;TZID=Atlantic/Azores:20180328T190000
DTSTAMP:20260425T234028
CREATED:20180305T191900Z
LAST-MODIFIED:20180305T191900Z
UID:660-1520672400-1522263600@bparlsr.azores.gov.pt
SUMMARY:Oficinas de criação artística - Animais e animenos…
DESCRIPTION:Oficinas de criação artística Animais e animenos… \nData: 10 de março\nHora: 14:00 às 15:30\nLocal: Biblioteca Pública e Arquivo Regional Luís da Silva Ribeiro\nDestinatários: público geral – crianças a partir dos 6 anos\nInscrição Prévia: até ao dia 8 de março\, mediante preenchimento de ficha de inscrição\, através do endereço www.bparlsr.gov.pt ou nas instalações da Biblioteca. \nA Biblioteca Pública e Arquivo Regional Luís da Silva Ribeiro\, no âmbito da mostra bibliográfica “Por terra fora\, um bicho\, uma história”\, dinamiza a oficina de criação artística “Animais e animenos”\, onde os participantes\, saltitando de verso em verso\, para aqui e para acolá\, do pequeno para o grande\, do bonito ao esquisito\, do simples ao complicado\, encontrarão todos os animais num emaranhado. Haverá ainda espaço para brincar com a bicharada e descobrir as várias combinações possíveis de imaginar. Será que de um elefante e uma formiga vai surgir uma elefantiga?!? \nO Circo Maravilhoso da Serpente Vermelha\nData: 13 de março\nHora: 10:00 às 11:00\nLocal: Biblioteca Pública e Arquivo Regional Luís da Silva Ribeiro\nDestinatários: público escolar – crianças a partir dos 8 anos\nInscrição Prévia: até 9 de março\, através do contacto telefónico 295 401 000 ou nas instalações da Biblioteca \nO Circo é sempre maravilhoso e alegre\, mas uma serpente e vermelha?!?! A serpente tem muitos símbolos nos diversos países\, pelo que\, nesta oficina\, as crianças irão criar um símbolo para a sua própria serpente\, experimentando dobragens de papel. \nO Rato Solteiro\nData: 24 de março\nHora: 14:00 às 15:30\nLocal: Biblioteca Pública e Arquivo Regional Luís da Silva Ribeiro\nDestinatários: público geral – crianças a partir dos 6 anos\nInscrição Prévia: até 22 de março\, mediante preenchimento de ficha de inscrição\, através do endereço www.bparlsr.gov.pt ou nas instalações da Biblioteca. \nNesta oficina\, em jeito de jogo\, vamos descobrir alguns mistérios. Por que não quer o rato casar\, optando por solteiro ficar? Fugindo\, fugindo\, correndo\, correndo\, até aprendeu a nadar. Será no fundo do mar que se irá declarar?!? E o coelho sabichão\, dando um grande mergulhão\, atrás da aventura também quis ir. Será que no fim da confusão\, também deixou de ser solteirão? \nPáscoa da Bicharada\nData: 26 a 28 de março\nHora: 14:00 às 15:30\nLocal: Biblioteca Pública e Arquivo Regional Luís da Silva Ribeiro\nDestinatários: público geral – crianças a partir dos 6 anos\nInscrição Prévia: até 22 de março\, mediante preenchimento de ficha de inscrição\, através do endereço www.bparlsr.gov.pt ou nas instalações da Biblioteca. \nPartindo de um divertido jogo\, os participantes serão convidados a criar estrambólicos e mirabolantes animais. Misturando toda a bicharada\, vamos imaginar como serão os habitats destes novos animais\, os seus hábitos e alimentos preferidos. Uma oficina onde a diversão será garantida! \nFacebookTwitterGoogle+\n\n\n\n\n
URL:https://bparlsr.azores.gov.pt/destaque/oficinas-criacao-artistica-animais-animenos/
CATEGORIES:Biblioteca Infantojuvenil,Exposições
ATTACH;FMTTYPE=image/jpeg:https://bparlsr.azores.gov.pt/wp-content/uploads/2018/03/Newsletter.jpg
END:VEVENT
END:VCALENDAR