BEGIN:VCALENDAR
VERSION:2.0
PRODID:-//Biblioteca Pública e Arquivo Regional Luís da Silva Ribeiro - ECPv4.9.10//NONSGML v1.0//EN
CALSCALE:GREGORIAN
METHOD:PUBLISH
X-WR-CALNAME:Biblioteca Pública e Arquivo Regional Luís da Silva Ribeiro
X-ORIGINAL-URL:https://bparlsr.azores.gov.pt
X-WR-CALDESC:Events for Biblioteca Pública e Arquivo Regional Luís da Silva Ribeiro
BEGIN:VTIMEZONE
TZID:Atlantic/Azores
BEGIN:DAYLIGHT
TZOFFSETFROM:-0100
TZOFFSETTO:+0000
TZNAME:+00
DTSTART:20200329T010000
END:DAYLIGHT
BEGIN:STANDARD
TZOFFSETFROM:+0000
TZOFFSETTO:-0100
TZNAME:-01
DTSTART:20201025T010000
END:STANDARD
END:VTIMEZONE
BEGIN:VEVENT
DTSTART;VALUE=DATE:20200130
DTEND;VALUE=DATE:20200131
DTSTAMP:20260420T144430
CREATED:20200117T142833Z
LAST-MODIFIED:20200117T142833Z
UID:3678-1580342400-1580428799@bparlsr.azores.gov.pt
SUMMARY:Os Passos em Volta - III
DESCRIPTION:“Os Passos em Volta” – III\nClube de Poesia – com orientação de Luísa Ribeiro\nHora: das 17:30 às 19:00\nData: 30 de janeiro\nPeriodicidade: quinzenalmente\, à quinta-feira (com exceção para os meses de julho a setembro)\nLocal: Biblioteca Pública e Arquivo Regional Luís da Silva Ribeiro\nPúblico-alvo: Adultos\nSujeito a inscrição: 27 de janeiro\n O Clube de Poesia da Biblioteca Pública e Arquivo Regional Luís da Silva Ribeiro\, “Passos em Volta”\, abre inscrições para a sua terceira edição.\nCom o objetivo de promover o prazer pela leitura partilhada\, esta é uma atividade direcionada para quem gosta de ler e ouvir ler.\nOrientados por Luísa Ribeiro\, colaboradora da instituição\, os membros do clube são desafiados a trazer autores da sua preferência de modo a haver intercâmbio entre os membros do clube e\, ao mesmo tempo\, uma maior divulgação da poética existente.\nDurante as sessões também serão feitos jogos de palavras\, para trabalhar a criatividade\, esculpindo poemas coletivos e dando destaque às obras dos poetas que estarão presentes nas sessões do Clube e nas sessões do “Encontro com o Escritor”.\nAs inscrições são limitadas e devem ser feitas\, até dia 27 de janeiro\, para o seguinte endereço: Maria.LC.Ribeiro@azores.gov.pt\nLuísa Ribeiro nasceu na ilha Terceira. Tem dois livros de poemas publicados e está representada em diversas revistas e antologias\, quer no país quer no estrangeiro.\nFacebookTwitterGoogle+\n\n\n\n\n
URL:https://bparlsr.azores.gov.pt/destaque/os-passos-em-volta-iii/
CATEGORIES:Biblioteca
ATTACH;FMTTYPE=image/jpeg:https://bparlsr.azores.gov.pt/wp-content/uploads/2020/01/Sítio-web-e-TV.jpg
END:VEVENT
END:VCALENDAR