BEGIN:VCALENDAR
VERSION:2.0
PRODID:-//Biblioteca Pública e Arquivo Regional Luís da Silva Ribeiro - ECPv4.9.10//NONSGML v1.0//EN
CALSCALE:GREGORIAN
METHOD:PUBLISH
X-WR-CALNAME:Biblioteca Pública e Arquivo Regional Luís da Silva Ribeiro
X-ORIGINAL-URL:https://bparlsr.azores.gov.pt
X-WR-CALDESC:Events for Biblioteca Pública e Arquivo Regional Luís da Silva Ribeiro
BEGIN:VTIMEZONE
TZID:Atlantic/Azores
BEGIN:DAYLIGHT
TZOFFSETFROM:-0100
TZOFFSETTO:+0000
TZNAME:+00
DTSTART:20190331T010000
END:DAYLIGHT
BEGIN:STANDARD
TZOFFSETFROM:+0000
TZOFFSETTO:-0100
TZNAME:-01
DTSTART:20191027T010000
END:STANDARD
END:VTIMEZONE
BEGIN:VEVENT
DTSTART;TZID=Atlantic/Azores:20190103T173000
DTEND;TZID=Atlantic/Azores:20190103T190000
DTSTAMP:20260424T111459
CREATED:20181221T121412Z
LAST-MODIFIED:20181221T121412Z
UID:2979-1546536600-1546542000@bparlsr.azores.gov.pt
SUMMARY:Os Passos em Volta
DESCRIPTION:“Os Passos em Volta”\nClube de Poesia – com orientação de Luísa Ribeiro\nHora: das 17:30 às 19:00\nData: 3 de janeiro (1ª sessão)\nPeriodicidade: quinzenalmente\, à quinta-feira (com exceção para os meses de julho a setembro)\nLocal: Biblioteca Pública e Arquivo Regional Luís da Silva Ribeiro\nPúblico-alvo: Adultos\nSujeito a inscrição: 28 de dezembro\nA Biblioteca Pública e Arquivo Regional Luís da Silva Ribeiro pretende dar continuidade ao  clube de poesia e promover o prazer pela leitura partilhada e o apuramento dos sentidos\, para quem gosta de ler e ouvir ler. Cada leitor deverá trazer autores da sua preferência de modo a haver um maior intercâmbio entre os membros do clube e\, ao mesmo tempo\, uma maior divulgação da poética existente.\nOutro dos objetivos é fazer jogos de palavras\, na tentativa de trabalhar a criatividade\, esculpindo poemas coletivos e fazer leituras atentas dos poetas que estarão presentes nas sessões do Clube e nas sessões do “Encontro com o Escritor”.\nAs inscrições devem ser feitas para o seguinte endereço: Maria.LC.Ribeiro@azores.gov.pt\nLuísa Ribeiro nasceu na ilha Terceira. Tem dois livros de poemas publicados e está representada em diversas revistas e antologias\, quer no país quer no estrangeiro.\nFacebookTwitterGoogle+\n\n\n\n\n
URL:https://bparlsr.azores.gov.pt/destaque/os-passos-em-volta/
CATEGORIES:Biblioteca
ATTACH;FMTTYPE=image/jpeg:https://bparlsr.azores.gov.pt/wp-content/uploads/2018/12/Sítio-web-e-TV-8.jpg
END:VEVENT
END:VCALENDAR