BEGIN:VCALENDAR
VERSION:2.0
PRODID:-//Biblioteca Pública e Arquivo Regional Luís da Silva Ribeiro - ECPv4.9.10//NONSGML v1.0//EN
CALSCALE:GREGORIAN
METHOD:PUBLISH
X-WR-CALNAME:Biblioteca Pública e Arquivo Regional Luís da Silva Ribeiro
X-ORIGINAL-URL:https://bparlsr.azores.gov.pt
X-WR-CALDESC:Events for Biblioteca Pública e Arquivo Regional Luís da Silva Ribeiro
BEGIN:VTIMEZONE
TZID:Atlantic/Azores
BEGIN:DAYLIGHT
TZOFFSETFROM:-0100
TZOFFSETTO:+0000
TZNAME:+00
DTSTART:20210328T010000
END:DAYLIGHT
BEGIN:STANDARD
TZOFFSETFROM:+0000
TZOFFSETTO:-0100
TZNAME:-01
DTSTART:20211031T010000
END:STANDARD
END:VTIMEZONE
BEGIN:VEVENT
DTSTART;TZID=Atlantic/Azores:20211009T093000
DTEND;TZID=Atlantic/Azores:20211009T103000
DTSTAMP:20260425T200933
CREATED:20210929T122307Z
LAST-MODIFIED:20210929T122316Z
UID:6527-1633771800-1633775400@bparlsr.azores.gov.pt
SUMMARY:Pequeno-Almoço com… Miguel Monjardino
DESCRIPTION:A Biblioteca Pública e Arquivo Regional Luís da Silva Ribeiro propõe um “Pequeno-Almoço com…”\, que no mês de outubro acontecerá no dia 9\, no Café Aliança\, pelas 9h30\, e que irá contar com a presença de Miguel Monjardino. \nA iniciativa pretende conciliar a descontração de uma manhã de sábado com um interessante momento de leitura num espaço inesperado\, promovendo\, assim\, a partilha de conhecimento literário entre todos os participantes. \nPara enriquecer esta experiência literária\, o “Pequeno-Almoço com…” terá a presença de convidados\, das mais diversas áreas\, sendo o primeiro o Professor Miguel Monjardino. \nSe o pequeno-almoço é a refeição mais importante do dia para equilibrar o corpo\, a literatura será uma das mais importantes formas de alimentar a mente. \nComece bem o seu fim-de-semana\, inscrevendo-se nesta iniciativa através do número: 295 401 000\, ou enviando e-mail para: comunicacao.bparlsr@azores.gov.pt (custo de participação 5€). \n  \n  \nBiografia Miguel Monjardino: Colunista de política internacional do jornal “Expresso”. Professor de Geopolítica e Geoestratégia no Instituto de Estudos Políticos\, Universidade Católica Portuguesa. Fundador do programa\, direcionado a jovens\, “República das Letras”. \nFacebookTwitterGoogle+\n\n\n\n\n
URL:https://bparlsr.azores.gov.pt/destaque/pequeno-almoco-com-miguel-monjardino/
CATEGORIES:Biblioteca
ATTACH;FMTTYPE=image/jpeg:https://bparlsr.azores.gov.pt/wp-content/uploads/2021/09/2_sitioweb_PeqAlmocoCom_MMonjardino.jpg
END:VEVENT
END:VCALENDAR