BEGIN:VCALENDAR
VERSION:2.0
PRODID:-//Biblioteca Pública e Arquivo Regional Luís da Silva Ribeiro - ECPv4.9.10//NONSGML v1.0//EN
CALSCALE:GREGORIAN
METHOD:PUBLISH
X-WR-CALNAME:Biblioteca Pública e Arquivo Regional Luís da Silva Ribeiro
X-ORIGINAL-URL:https://bparlsr.azores.gov.pt
X-WR-CALDESC:Events for Biblioteca Pública e Arquivo Regional Luís da Silva Ribeiro
BEGIN:VTIMEZONE
TZID:Atlantic/Azores
BEGIN:DAYLIGHT
TZOFFSETFROM:-0100
TZOFFSETTO:+0000
TZNAME:+00
DTSTART:20210328T010000
END:DAYLIGHT
BEGIN:STANDARD
TZOFFSETFROM:+0000
TZOFFSETTO:-0100
TZNAME:-01
DTSTART:20211031T010000
END:STANDARD
END:VTIMEZONE
BEGIN:VEVENT
DTSTART;VALUE=DATE:20210104
DTEND;VALUE=DATE:20210131
DTSTAMP:20260425T014057
CREATED:20210104T120818Z
LAST-MODIFIED:20210104T121008Z
UID:4978-1609718400-1612051199@bparlsr.azores.gov.pt
SUMMARY:Periódicos à Lupa
DESCRIPTION:Data: 4 a 30 de janeiro \nHorário: Horário de funcionamento da Biblioteca \nLocal: Secção de Periódicos \nPúblico-alvo: Público em geral \n  \n  \nAo longo do tempo\, a religiosidade vivida nos Açores foi sendo documentada não só em livro\, mas também em publicações periódicas. \nNo mês de janeiro\, estarão “à Lupa” alguns jornais e revistas publicados no início do século XX sobre esta temática. \nConheça esta mostra\, visitando a secção de Periódicos da Biblioteca\, ou através da página no Facebook: https://www.facebook.com/BPARLSR \nFacebookTwitterGoogle+\n\n\n\n\n
URL:https://bparlsr.azores.gov.pt/destaque/periodicos-a-lupa-19/
CATEGORIES:Biblioteca
ATTACH;FMTTYPE=image/jpeg:https://bparlsr.azores.gov.pt/wp-content/uploads/2021/01/2-sítio-web_Periódicos-à-Lupa_janeiro2021.jpg
END:VEVENT
END:VCALENDAR