BEGIN:VCALENDAR
VERSION:2.0
PRODID:-//Biblioteca Pública e Arquivo Regional Luís da Silva Ribeiro - ECPv4.9.10//NONSGML v1.0//EN
CALSCALE:GREGORIAN
METHOD:PUBLISH
X-WR-CALNAME:Biblioteca Pública e Arquivo Regional Luís da Silva Ribeiro
X-ORIGINAL-URL:https://bparlsr.azores.gov.pt
X-WR-CALDESC:Events for Biblioteca Pública e Arquivo Regional Luís da Silva Ribeiro
BEGIN:VTIMEZONE
TZID:Atlantic/Azores
BEGIN:DAYLIGHT
TZOFFSETFROM:-0100
TZOFFSETTO:+0000
TZNAME:+00
DTSTART:20210328T010000
END:DAYLIGHT
BEGIN:STANDARD
TZOFFSETFROM:+0000
TZOFFSETTO:-0100
TZNAME:-01
DTSTART:20211031T010000
END:STANDARD
END:VTIMEZONE
BEGIN:VEVENT
DTSTART;VALUE=DATE:20210301
DTEND;VALUE=DATE:20210401
DTSTAMP:20260424T212223
CREATED:20210301T170338Z
LAST-MODIFIED:20210301T170350Z
UID:5309-1614556800-1617235199@bparlsr.azores.gov.pt
SUMMARY:Periódicos à Lupa
DESCRIPTION:Data: 1 a 31 de março \nHorário: Horário de funcionamento da Biblioteca \nLocal: Secção de Periódicos \nPúblico-alvo: Estudantes e profissionais de informática\, e interessados em tecnologia. \n  \nNo mês de março\, a secção de Periódicos da Biblioteca Pública e Arquivo Regional Luís da Silva Ribeiro organiza uma breve mostra de publicações dedicadas ao universo informático. \nA tecnologia tem evoluído abruptamente nas últimas décadas. A acompanhar esta mudança estiveram as revistas da especialidade que foram publicando as últimas novidades do mercado. \nDe forma cronológica\, para que se possa acompanhar o avanço informático\, nomeadamente do hardware\, a Sala de Consulta de Periódicos tem “À Lupa” algumas das publicações que surgiram ao longo dos anos. \nVisite a Biblioteca e relembre\, através desta mostra\, a evolução tecnológica. \nFacebookTwitterGoogle+\n\n\n\n\n
URL:https://bparlsr.azores.gov.pt/destaque/periodicos-a-lupa-21/
CATEGORIES:Biblioteca
ATTACH;FMTTYPE=image/jpeg:https://bparlsr.azores.gov.pt/wp-content/uploads/2021/03/2_sitioweb.jpg
END:VEVENT
END:VCALENDAR