BEGIN:VCALENDAR
VERSION:2.0
PRODID:-//Biblioteca Pública e Arquivo Regional Luís da Silva Ribeiro - ECPv4.9.10//NONSGML v1.0//EN
CALSCALE:GREGORIAN
METHOD:PUBLISH
X-WR-CALNAME:Biblioteca Pública e Arquivo Regional Luís da Silva Ribeiro
X-ORIGINAL-URL:https://bparlsr.azores.gov.pt
X-WR-CALDESC:Events for Biblioteca Pública e Arquivo Regional Luís da Silva Ribeiro
BEGIN:VTIMEZONE
TZID:Atlantic/Azores
BEGIN:DAYLIGHT
TZOFFSETFROM:-0100
TZOFFSETTO:+0000
TZNAME:+00
DTSTART:20190331T010000
END:DAYLIGHT
BEGIN:STANDARD
TZOFFSETFROM:+0000
TZOFFSETTO:-0100
TZNAME:-01
DTSTART:20191027T010000
END:STANDARD
END:VTIMEZONE
BEGIN:VEVENT
DTSTART;VALUE=DATE:20190902
DTEND;VALUE=DATE:20191001
DTSTAMP:20260425T123739
CREATED:20190829T145014Z
LAST-MODIFIED:20190829T145014Z
UID:3423-1567382400-1569887999@bparlsr.azores.gov.pt
SUMMARY:Periódicos à Lupa
DESCRIPTION:“Periódicos à Lupa”\, mostra organizada pela secção de Periódicos\nData: 2 a 30 de setembro\nHora: Horário de funcionamento da Biblioteca\nLocal: Biblioteca Pública e Arquivo Regional Luís da Silva Ribeiro\nPúblico-alvo: Público em geral\nA Biblioteca Pública e Arquivo Regional Luís da Silva Ribeiro terá patente uma mostra de publicações periódicas que tem por objetivo referenciar através do seu espólio\, algumas das datas mais importantes do percurso histórico do nosso país\, bem como divulgar e apresentar a infindável coleção de recursos contínuos que esta instituição tem disponível para consulta dos seus leitores.\nAssinalando-se a 8 de setembro o “Dia Internacional da Literacia”\, a Biblioteca Pública e Arquivo Regional Luís da Silva Ribeiro promove uma mostra de algumas publicações periódicas que abordam esta temática\, pretendendo desta forma realçar a importância do conhecimento no desenvolvimento da sociedade.\nFacebookTwitterGoogle+\n\n\n\n\n
URL:https://bparlsr.azores.gov.pt/destaque/periodicos-a-lupa-9/
CATEGORIES:Biblioteca,Exposições
ATTACH;FMTTYPE=image/jpeg:https://bparlsr.azores.gov.pt/wp-content/uploads/2019/08/Sítio-web-e-TV-3.jpg
END:VEVENT
END:VCALENDAR