BEGIN:VCALENDAR
VERSION:2.0
PRODID:-//Biblioteca Pública e Arquivo Regional Luís da Silva Ribeiro - ECPv4.9.10//NONSGML v1.0//EN
CALSCALE:GREGORIAN
METHOD:PUBLISH
X-WR-CALNAME:Biblioteca Pública e Arquivo Regional Luís da Silva Ribeiro
X-ORIGINAL-URL:https://bparlsr.azores.gov.pt
X-WR-CALDESC:Events for Biblioteca Pública e Arquivo Regional Luís da Silva Ribeiro
BEGIN:VTIMEZONE
TZID:Atlantic/Azores
BEGIN:DAYLIGHT
TZOFFSETFROM:-0100
TZOFFSETTO:+0000
TZNAME:+00
DTSTART:20210328T010000
END:DAYLIGHT
BEGIN:STANDARD
TZOFFSETFROM:+0000
TZOFFSETTO:-0100
TZNAME:-01
DTSTART:20211031T010000
END:STANDARD
END:VTIMEZONE
BEGIN:VEVENT
DTSTART;VALUE=DATE:20210901
DTEND;VALUE=DATE:20211001
DTSTAMP:20260425T224125
CREATED:20210826T141449Z
LAST-MODIFIED:20210826T141537Z
UID:6403-1630454400-1633046399@bparlsr.azores.gov.pt
SUMMARY:Periódicos à Lupa de setembro
DESCRIPTION:O vegetarianismo estará em destaque\, durante o mês de setembro\, na Sala de Consulta de Periódicos da Biblioteca Pública e Arquivo Regional Luís da Silva Ribeiro. \nPara esta breve mostra foram selecionados diferentes jornais e revistas com informações sobre este regime alimentar e onde também se encontram receitas vegetarianas. \nVisite a sua Biblioteca e conheça os periódicos que foram selecionados sobre este tema. \nFacebookTwitterGoogle+\n\n\n\n\n
URL:https://bparlsr.azores.gov.pt/destaque/periodicos-a-lupa-de-setembro/
CATEGORIES:Biblioteca
ATTACH;FMTTYPE=image/jpeg:https://bparlsr.azores.gov.pt/wp-content/uploads/2021/08/2_sitioweb-1.jpg
END:VEVENT
END:VCALENDAR